BEGIN:VCALENDAR
VERSION:2.0
PRODID:-//Teeviit - ECPv6.15.4//NONSGML v1.0//EN
CALSCALE:GREGORIAN
METHOD:PUBLISH
X-WR-CALNAME:Teeviit
X-ORIGINAL-URL:https://www.teeviit.ee
X-WR-CALDESC:Events for Teeviit
REFRESH-INTERVAL;VALUE=DURATION:PT1H
X-Robots-Tag:noindex
X-PUBLISHED-TTL:PT1H
BEGIN:VTIMEZONE
TZID:Europe/Helsinki
BEGIN:DAYLIGHT
TZOFFSETFROM:+0200
TZOFFSETTO:+0300
TZNAME:EEST
DTSTART:20230326T010000
END:DAYLIGHT
BEGIN:STANDARD
TZOFFSETFROM:+0300
TZOFFSETTO:+0200
TZNAME:EET
DTSTART:20231029T010000
END:STANDARD
END:VTIMEZONE
BEGIN:VEVENT
DTSTART;VALUE=DATE:20230925
DTEND;VALUE=DATE:20231021
DTSTAMP:20260423T234522
CREATED:20231009T042717Z
LAST-MODIFIED:20231009T042717Z
UID:30715-1695600000-1697846399@www.teeviit.ee
SUMMARY:Minu eeskuju 2023
DESCRIPTION:Eeskujuliikumine kutsub üles märkama ja tunnustama eeskujusid\, et 11.novembril tunnustada eeskujuliikumine Valge Õhupall tänusündmusel „Märkan eeskuju“ esitatud era- ja juriidilisi isikuid. \nEsita eeskuju hiljemalt 20. oktoobriks 2023\, täites ankeet eeskujuliikumise kodulehel www.valgeohupall.ee või saates vastav ankeet (leitav kodulehelt) e-postiaadressile eeskuju@valgeohupall.ee. \nEeskujuliikumise juhtrühm valib kõikide üleskutse “Minu eeskuju” raames esitatud kandidaatide seast välja 11 era- ja/või juriidilist isikut ning ühe noore kuni 20a eeskuju. \nAasta eeskujuks saab esitada\, organisatsioone\, perekondi ja eraisikuid vanuses alates 21a: \n\nkes on oma tegevusega eeskujuks tervema ja turvalisema elukeskkonna loomisel;\nkelle eestvedamisel on tekkinud uus algatus\, mis suurendab kogukonna- ja turvatunnet;\nkes on oma eeskujuga kaasanud tegutsema teisi inimesi ja organisatsioone\, toetades sellega väärtuspõhiste otsuste tegemist;\nkes on oma eeskujuliku tegevuse ja algatustega positiivselt mõjutanud avalikku arvamust;\nkes on silma paistnud tervema ja turvalisema tuleviku kujundamisega seotud teemade nähtaval hoidmisel ühiskonnas.\n\nAasta nooreks eeskujukus saab esitada eraisikuid vanuses kuni 20a: \n\nkelle teo või töö tulemusel on tekkinud uus algatus\, mis suurendab teiste inimeste heaolu;\nkes on oma eeskujuga kaasanud tegutsema teisi lapsi ja/või täiskasvanuid\, muutes sellega positiivselt teiste inimeste elu.\n\nAllikas ja esitamine: https://valgeohupall.ee/2023/09/25/minu-eeskuju-2023/ \n 
URL:https://www.teeviit.ee/sundmus/minu-eeskuju-2023/
CATEGORIES:Konkurss
ATTACH;FMTTYPE=image/jpeg:https://www.teeviit.ee/wp-content/uploads/2023/10/minu-eeskuju-2023-03.jpg
END:VEVENT
BEGIN:VEVENT
DTSTART;TZID=Europe/Helsinki:20230930T210000
DTEND;TZID=Europe/Helsinki:20231001T210000
DTSTAMP:20260423T234522
CREATED:20230823T115216Z
LAST-MODIFIED:20230823T115216Z
UID:29047-1696107600-1696194000@www.teeviit.ee
SUMMARY:MängudeÖÖ 2023
DESCRIPTION:Aasta on 2023. Tehisintellekt on vaikselt vallutamas maailma. Juba on ta oma hingetute digitaalsete käte vahele haaranud kirjanduse\, muusika\, kunsti. Alles on vaid üks kants\, mis võitleb südikalt vastu – videomängud! \nMängude ja inimteguri vahetut ning möödapääsmatu suhte suurimaks esindajaks on muidugi Eesti legendaarseim videomängupidu MängudeÖÖ. Sel sügisel avame taas uksed\, selgitamaks kõigile\, et mängud on kunst\, meelelahutus\, viis sõpruste tugevdamiseks ja rivaalidega arvete klaarimiseks! \nTänavune sügisene MängudeÖÖ toimub 30. septembril Ülemiste Apollo kinos. Pileti saad valmis osta aga juba täna! Juuli lõpuni on pileti hinnaks 17 €\, alates augustist 20 €\, üritusel kohapeal aga 25 €. \nÜrituse vanusepiirang on 16+ (14+ kui kaasas on täisealine saatja). \nMängudeÖÖ sai alguse aastal 2012\, kui väiksel sõpruskonnal tekkis soov kogeda videomänge suurel kinoekraanil. Tänaseks on sellest soovist kasvanud suur üritustesari\, mille raames toimunud enam kui 25 ÖÖd Tallinna\, Tartu ja Pärnu erinevates kinodes.
URL:https://www.teeviit.ee/sundmus/mangudeoo-2023/
LOCATION:Ülemiste Keskuse Apollo Kino
CATEGORIES:Festival
ATTACH;FMTTYPE=image/jpeg:https://www.teeviit.ee/wp-content/uploads/2023/08/348950024_1514195378986441_1637933259703710007_n.jpg
END:VEVENT
BEGIN:VEVENT
DTSTART;TZID=Europe/Helsinki:20231007T100000
DTEND;TZID=Europe/Helsinki:20231007T193000
DTSTAMP:20260423T234522
CREATED:20230908T052930Z
LAST-MODIFIED:20231003T084008Z
UID:29536-1696672800-1696707000@www.teeviit.ee
SUMMARY:Noortekonverents "Näeme Narvas"
DESCRIPTION: Eesti Noorteühenduste Liidul on hea meel kutsuda Sind noortekonverentsile “Näeme Narvas!”. \n\n\nNoortekonverentsi “Näeme Narvas” eesmärk on tutvustada noortele erinevaid osalusvõimalusi\, laiendada nende silmaringi erinevatel paneeldiskussioonidel ja töötubades osalemise läbi ning võimaldada erineva emakeelega noorte integreerumine. \n\n\n Konverents toimub 7. oktoobril Narvas. \n\nKonverentsilt võid leida:\n Paneeldiskussioone\n Orienteerumist\n Erinevaid töötubasid\n Õhtuse meelelahustuslprogrammi\n Ja palju muud\n Registreerimine on avatud: https://forms.gle/1SeqtdNPXgJN89Jq6\n Konverentsile ootame kõiki noori\, kelle vanus on 13+.\n\n Küsimuste või lisainfo korral kirjuta noorte osaluse assistendile Evelinale (evelina@enl.ee).\n\nNoortekonverents toimub projekti „Euroopa Noortedialoog 2022-2024“ raames\, mida viib ellu Eesti Noorteühenduste Liit ja mida rahastavad Euroopa Liit ning Haridus- ja Teadusministeerium.
URL:https://www.teeviit.ee/sundmus/noortekonverents-naeme-narvas/
LOCATION:Joala 20\, Narva\, Estonia
CATEGORIES:Inspiratsioonipäev,Festival
ATTACH;FMTTYPE=image/jpeg:https://www.teeviit.ee/wp-content/uploads/2023/09/372981461_696448822515893_7019469241225750217_n.jpg
END:VEVENT
BEGIN:VEVENT
DTSTART;VALUE=DATE:20231015
DTEND;VALUE=DATE:20231016
DTSTAMP:20260423T234522
CREATED:20230923T095423Z
LAST-MODIFIED:20230923T095549Z
UID:29962-1697328000-1697414399@www.teeviit.ee
SUMMARY:Tehisintellekti pildivõistlus koolinoortele
DESCRIPTION:Rahvusraamatukogu hariduskeskus korraldab põhikooli õpilastele ja gümnasistidele mõeldud pildivõistluse\, mis viib omavahel kokku tehisintellekti ja kirjandusklassika. \nÕpilaste pildikunsti oodatakse kuni 15. oktoobrini\, võitjad selguvad žürii hääletuse teel 20. oktoobril. Osalejaid hinnatakse kahes kategoorias: 7.-9. ja 10.-12. klassid.arimatele on ka välja pandud ka tehnikapoe kinkekaardid. \nOsalejad peavad endale valima meelepärase teose etteantud valikust: August Kitzbergi “Libahunt”\, Friedrich Reinhold Kreutzwaldi “Eesti rahva ennemuistsed jutud”\, Sass Henno “Elu algab täna”\, Helga Nõu “Pea suu! ; Tõmba uttu!”\, A.H. Tammsaare “Põrgupõhja uus Vanapagan”\, Richard Roht “Jutte loomadest”. \nLoe lähemalt põnevast võistlusest SIIT.
URL:https://www.teeviit.ee/sundmus/tehisintellekti-pildivoistlus-koolinoortele/
LOCATION:Veebis
CATEGORIES:Konkurss
ATTACH;FMTTYPE=image/png:https://www.teeviit.ee/wp-content/uploads/2023/09/microsoftteams-image-7.png
END:VEVENT
BEGIN:VEVENT
DTSTART;TZID=Europe/Helsinki:20231017T080000
DTEND;TZID=Europe/Helsinki:20231025T235900
DTSTAMP:20260423T234522
CREATED:20231017T083257Z
LAST-MODIFIED:20231017T083257Z
UID:31097-1697529600-1698278340@www.teeviit.ee
SUMMARY:VÄLKVOOR: Noorte osaluse fond
DESCRIPTION:Tänavune noorsootöö nädal\, mis toimub 13.-19.novembril\, keskendub keskkonna heaks tegutsemisele. Sellest lähtuvalt kuulutab Eesti Noorteühenduste Liit välja Noorte osaluse fondi välkvooru\, mille keskmes on keskkonnateemaliste osaluskohvikute korraldamine noorsootöö nädala jooksul. Taotletava summa piirmäär on 1000€ ja taotlus tuleb esitada aadressil projektifond@enl.ee hiljemalt 25.10 kell 23.59. Taoltusvorm on leitav Eesti Noorteühenduste Liidu kodulehel enl.ee/fond \nMeetmest on võimalik toetust saada ka noorteühingutel ja osaluskogudel\, kes on 2023. aasta jooksul juba toetust saanud. \n Osaluskohvik on meetod\, kus arutelulaua ümber kogunevad noored\, ametnikud ja otsustajad\, et leida aktuaalsetele probleemidele üheskoos lahendused ning arutada\, millises suunas oleks vaja parema tuleviku nimel liikuda. \n Noorsootöönädala raames keskendutakse keskkonnasõbralikule eluviisile\, kliimamuutuste leevendamise võimalustele\, jätkusuutlike lahenduste tutvustamisele ning sellele\, kuidas meil on võimalik panustada keskkonnahoidu. Eesti Noorteühenduste Liidu riigikogu valimiste platvormis on välja toodud\, et üks noorte heaolu mõjutatavatest teguritest on keskkond ja jätkusuutlik\, mis on valdkondadeülene prioriteet. \nOsaluskohviku teemad\, soovituslik osaluskohviku formaat ja arutelude struktuur on leitavad enl.ee/infonurk
URL:https://www.teeviit.ee/sundmus/valkvoor-noorte-osaluse-fond/
CATEGORIES:Taotlusvoor
ATTACH;FMTTYPE=image/jpeg:https://www.teeviit.ee/wp-content/uploads/2023/10/391753286_18315279604111452_8292855329110505829_n.jpg
END:VEVENT
BEGIN:VEVENT
DTSTART;TZID=Europe/Helsinki:20231024T000000
DTEND;TZID=Europe/Helsinki:20231027T000000
DTSTAMP:20260423T234522
CREATED:20230524T112259Z
LAST-MODIFIED:20230524T112259Z
UID:25231-1698105600-1698364800@www.teeviit.ee
SUMMARY:Disainilaager “NoDi 2023”
DESCRIPTION:Disainilaager “NoDi 2023” toimub 24.-27. oktoobril Lihulas\, kuhu oodatakse 13 – 19 aastaseid noori.  \n\nKas on üldse võimalik\, et ma võiksin kunagi elada maal?\nMiks ma tahan tulla pärast õpinguid oma kodukohta\, maale elama?\nMida põnevat noored maal teha saavad?\n\nÄäremaastumine on protsess\, mille käigus kolivad inimesed vähem asustatud piirkondadest suurematesse keskustesse ning selle tulemusena väheneb nende piirkondade atraktiivsus elukeskkonnana\, mis soodustab omakorda veel rohkemate inimeste lahkumist. \nEestis on viimastel kümnenditel sarnaselt teiste Kesk- ja Ida-Euroopa riikidega kasvanud piirkondlik ebavõrdsus. Kuna Eesti asub kaugel Euroopa tuumikpiirkondadest\, siis on Eesti väikelinnad ja maapiirkonnad ääremaad kahel geograafilisel tasandil – seda nii Eesti kui Euroopa mõistes. \nLaagrisse registreerimise link: https://forms.gle/ChmYyc4UcKvN7s267  \nTegevused laagris põhinevad disainiprotsessi loogikal ja tegutsetakse mõttetalgute vormis. Noori juhendavad mentor-disainerid. \n  \nEesti Kunstikoolide Liit ja Kose Kunstikeskus korraldavad neljandat aastat üle-eestilist noortele suunatud disainiõppelaagrit NoDi – NOORED DISAINIVAD\, mille eesmärk on noorte loova ja disainerliku mõtlemise toetamine. \nLoe lisa: https://kunstikoolid.ee/eelteade-ehk-pane-nodi-toimumise-aeg-oma-kalendrisse-kirja/
URL:https://www.teeviit.ee/sundmus/disainilaager-nodi-2023/
LOCATION:Lihula\, Lihula
CATEGORIES:laager
END:VEVENT
END:VCALENDAR