BEGIN:VCALENDAR
VERSION:2.0
PRODID:-//Teeviit - ECPv6.15.4//NONSGML v1.0//EN
CALSCALE:GREGORIAN
METHOD:PUBLISH
X-WR-CALNAME:Teeviit
X-ORIGINAL-URL:https://www.teeviit.ee
X-WR-CALDESC:Events for Teeviit
REFRESH-INTERVAL;VALUE=DURATION:PT1H
X-Robots-Tag:noindex
X-PUBLISHED-TTL:PT1H
BEGIN:VTIMEZONE
TZID:Europe/Tallinn
BEGIN:DAYLIGHT
TZOFFSETFROM:+0200
TZOFFSETTO:+0300
TZNAME:EEST
DTSTART:20260329T010000
END:DAYLIGHT
BEGIN:STANDARD
TZOFFSETFROM:+0300
TZOFFSETTO:+0200
TZNAME:EET
DTSTART:20261025T010000
END:STANDARD
END:VTIMEZONE
BEGIN:VEVENT
DTSTART;VALUE=DATE:20260224
DTEND;VALUE=DATE:20260502
DTSTAMP:20260424T025421
CREATED:20260310T134442Z
LAST-MODIFIED:20260310T134442Z
UID:59254-1771891200-1777679999@www.teeviit.ee
SUMMARY:Kirjutamisvõistlus “Minu Eesti”
DESCRIPTION:Mida tähendab Sinu jaoks Eesti? \nSõltumata sellest\, kas oled üles kasvanud Eestis või mõnes teises riigis\, soovib Vabamu kuulda Sinu kogemusest ja emotsioonidest seoses paigaga\, mida me kutsume Eestiks. \nKutsume Eestis ja mujal elavaid 15-25-aastaseid eesti noori saatma oma kirjatükke konkursile “Minu Eesti”. Oodatud on mistahes kirjalikud lühivormid lühijuttudest luuletusteni\, nii eesti kui inglise keeles (muudes keeltes kirjutades palume lisada tõlke kas eesti või inglise keelde). \nInspiratsiooniks soovitame külastada Vabamu näitust „Ilmaküla eestlased“\, mis räägib eestlaste rändamisest viimase 150 aasta jooksul. \nVõistlustööde esitamise tähtaeg on 1. mai. \nVõitja kuulutame välja juunis 2026\, parimad kirjutajad saavad lisaks auhindadele võimaluse osaleda 19. augustil 2026 Toompeal riigi esindushoones toimuval konverentsil\, kus võitjal on võimalus oma tööd esitleda. Reisikulud katab Eesti Vabariigi välisministeerium. \nTööd palume saata ja küsimuste korral võib pöörduda: maja.soomagi@vabamu.ee
URL:https://www.teeviit.ee/sundmus/kirjutamisvoistlus-minu-eesti/
CATEGORIES:Konkurss
END:VEVENT
BEGIN:VEVENT
DTSTART;VALUE=DATE:20260301
DTEND;VALUE=DATE:20260502
DTSTAMP:20260424T025421
CREATED:20260420T142110Z
LAST-MODIFIED:20260420T142110Z
UID:59934-1772323200-1777679999@www.teeviit.ee
SUMMARY:Digimentorite konkurss
DESCRIPTION:Kas oled õpetanud vanaemale e-poodides ostlemist? Seletanud sõbrale\, kuidas kontole tugev parool panna? Aidanud õpetajal Zoomi käima saada? \nRäägi\, kuidas sa digimaailmas abiks olid! \nJaga oma lugu\, kuidas sa kedagi teist nutimaailmas juhendasid! Lugu võib olla lühike ja tabav. Oluline on sisu ja õppetund\, mitte tähemärkide arv. \nKirjelda\, keda ja kuidas sa aitasid ning mida ise sellese kogemusest õppisid! \nOsaleda saab üksi või kuni 4-liikmelises grupis. \n\nTähtaeg: 1. mai 2026\nTöömaht: 400-500 sõna\n\nAuhinnad: \niPhone 16 \n128 GB mudel\, väärtusega 919 eurot. Loositakse välja individuaalselt esitatud tööde vahel. \nAirPods 4 \nIgale grupiliikmele\, väärtusega 149 eurot/tk. Loositakse välja grupitööde vahel (grupis 2-4 liiget) \nUuri rohkem ja esita oma töö!
URL:https://www.teeviit.ee/sundmus/digimentorite-konkurss-2/
LOCATION:Veebis
CATEGORIES:Konkurss
ATTACH;FMTTYPE=image/png:https://www.teeviit.ee/wp-content/uploads/2026/04/digimentorite_konkurss_-_inger_klesment.png
END:VEVENT
BEGIN:VEVENT
DTSTART;VALUE=DATE:20260304
DTEND;VALUE=DATE:20260505
DTSTAMP:20260424T025421
CREATED:20260310T131650Z
LAST-MODIFIED:20260330T101706Z
UID:59249-1772582400-1777939199@www.teeviit.ee
SUMMARY:Konkurss "Kus mure näed laita\, seal tule ja AI-ta" 2026
DESCRIPTION:Haridus- ja Noorteameti ProgeTiigri ja Inseneriakadeemia programmid kutsuvad 1.–12. klasside (seal hulgas kutsekeskhariduse õppekava) õpetajaid ja MATIK huviringide juhendajaid üle Eesti osalema oma õpilastega ideekonkursil „Kus mure näed laita\, seal tule ja AI-ta!“\, mis toimub 4. märtsist kuni 4. maini. Konkursi eesmärk on suunata õpilasi märkama päriselulisi probleeme ning leidma neile nutikaid tehisarul põhinevaid lahendusi. \nVäljakutse keskmes on tark linn – keskkond\, kus tehnoloogia aitab muuta igapäevaelu turvalisemaks\, keskkonnasõbralikumaks ja mugavamaks. Konkursi raames on osalejatel võimalik mõelda\, kuidas tehisaru võiks aidata näiteks liikluse korraldamisel\, jäätmemajanduses\, rohealade planeerimisel\, kultuurielu edendamisel või kogukonna turvalisuse suurendamisel. \nKonkursi erilisus seisneb selles\, et rõhk ei ole tehnilisel keerukusel\, vaid probleemi mõistmisel ja lahenduse terviklikul läbimõtlemisel. Oluline on idee selgus\, mõju ja loovus. \nKuidas konkursil osaleda?  \nKonkursile saavad õpilaste töid esitada õpetajad ja juhendajad.  Õpilased töötavad 2–5-liikmelistes meeskondades. Iga õpetaja võib esitada mitu erinevat ideed. Õpilaste ülesanne on välja mõelda tehisintellektil põhinev lahendus mõne targa linna probleemile. Oluline ei ole tehniline keerukus ega programmeerimine\, vaid idee selgus ja läbimõeldus. \nKuidas ideed esitada?  \nMeeskond võib ise valida\, millisel kujul oma idee esitada. Sobivad näiteks: \n\ndigitaalne plakat või joonistus;\nslaidiesitlus;\nlühivideo või animatsioon;\nlihtne prototüüp (nt chatbot või Scratchi simulatsioon);\nrakenduse või süsteemi visuaalne makett (nt Figma).\n\nOluline on\, et idee oleks arusaadav\, visuaalne ja hästi selgitatud. \nIdeid saab esitada kuni 4. maini SIIN. \nTutvu konkursi tingimustega SIIN. \nKüsimuste korral kirjutage progetiiger@harno.ee. \nKonkurss viiakse läbi Euroopa Liidu Euroopa Sotsiaalfondi programmi „IT Akadeemia ja inseneriakadeemia arendamine kutse-\, üld- ja huvihariduses“ (2021-2027.4.04.24-0004) raames. Tegevusi kaasrahastab Euroopa Liit. 
URL:https://www.teeviit.ee/sundmus/konkurss-kus-mure-naed-laita-seal-tule-ja-ai-ta-2026/
CATEGORIES:Konkurss
ATTACH;FMTTYPE=image/jpeg:https://www.teeviit.ee/wp-content/uploads/2026/03/plakat-a4-ai-ta-konkurss_page-0001.jpg
END:VEVENT
BEGIN:VEVENT
DTSTART;VALUE=DATE:20260414
DTEND;VALUE=DATE:20260519
DTSTAMP:20260424T025421
CREATED:20260420T134343Z
LAST-MODIFIED:20260420T135452Z
UID:59909-1776124800-1779148799@www.teeviit.ee
SUMMARY:Teeviit kleepsukonkurss
DESCRIPTION:Teeviit kleepsukonkurss kutsub 13–26-aastaseid noori oma loomingut jagama\, luues Teeviit-teemalise kleepsulehe. \nOsaleda saab nii digitaalse kui käsitsi tehtud tööga. Konkurss on tasuta\, peaauhinnaks on iPad ning lisaks valitakse rahvahääletuse võitja. Töid saab esitada kuni 18.05.2026. \nUuri rohkem: Tule ja osale: Teeviit kleepsukonkurss – Teeviit
URL:https://www.teeviit.ee/sundmus/teeviit-kleepsukonkurss/
LOCATION:Haridus- ja Noorteamet
CATEGORIES:Konkurss
ATTACH;FMTTYPE=image/png:https://www.teeviit.ee/wp-content/uploads/2026/04/kaanepilt-3.png
ORGANIZER;CN="Noorteinfoportaal Teeviit":MAILTO:www.teeviit.ee
END:VEVENT
BEGIN:VEVENT
DTSTART;VALUE=DATE:20260420
DTEND;VALUE=DATE:20260505
DTSTAMP:20260424T025421
CREATED:20260420T142812Z
LAST-MODIFIED:20260420T142812Z
UID:59940-1776643200-1777939199@www.teeviit.ee
SUMMARY:Maailmakooli noortekonkurss: "Lootuse loojad"
DESCRIPTION:Mis tundega mõtled elule 10\, 30 või isegi 100 aasta pärast? Millisest tulevikust sina unistad – ja kuidas oma tänaste tegudega seda mõjutad? Mondo Maailmakooli noortekonkursil on sul võimalus näidata\, kuidas paistab tulevik läbi just sinu silmade. \nKonkursile oodatakse osalema 9.–12. klasside noori oma töödega\, mis avavad tulevikulootust ja võimalikke tulevikustsenaariumeid. Tehnika ja formaat on täiesti vabad – loo video\, muusikapala\, sotsiaalmeedia kampaania\, maal\, koomiks\, essee\, installatsioon\, performance’või midagi sootuks teistsugust. Kõige olulisem on küsimus\, kuidas püsida lootusrikas maailmas\, mis tundub vahel täis kriise ja küsimärke? \nTulevikulootus kujutab endast julgust tegutseda ja usku\, et väikestel sammudel võib olla suur mõju. Jaga sinagi oma mõtteid\, unistusi ja lahendusi – ning aita kujundada maailma\, kuhu tahame päriselt jõuda. \nKuidas osaleda? \nTöö ja selgitav tekst tuleb esitada konkursi korraldajatele hiljemalt 4. maiks 2026 saates selle elektroonselt või lingina e-posti aadressile konkurss@mondo.org.ee. \nTöö esitamisel tuleb märkida töö pealkiri\, autori(te) ees- ja perekonnanimi(nimed)\, sünniaeg(ajad)\, haridusasutus(ed) ja klass(id)\, telefoninumber(numbrid)\, aadress ning e-posti aadress\, töö juhendaja ja tema kontaktid (kui on).
URL:https://www.teeviit.ee/sundmus/maailmakooli-noortekonkurss-lootuse-loojad/
LOCATION:Veebis
CATEGORIES:Konkurss
ATTACH;FMTTYPE=image/png:https://www.teeviit.ee/wp-content/uploads/2026/04/noortekonkurss_2026_-_mtu_mondo.png
END:VEVENT
BEGIN:VEVENT
DTSTART;VALUE=DATE:20260424
DTEND;VALUE=DATE:20260502
DTSTAMP:20260424T025421
CREATED:20260420T140816Z
LAST-MODIFIED:20260420T140816Z
UID:59926-1776988800-1777679999@www.teeviit.ee
SUMMARY:Euroopa noortenädal 2026
DESCRIPTION:Euroopa Komisjon korraldab noortenädalat iga kahe aasta tagant\, et väärtustada ja edendada noorte kaasatust\, osalemist ja kodanikuaktiivsust Euroopas ja mujal maailmas. \n2026. aastal toimub see 24. aprillist kuni 1. maini. \nSeekord on vaatluse all solidaarsuse ja õiglusega seotud teemad. Euroopa vabatahtliku tegevuse 30 aasta pikkust ajalugu meenutatakse näitusega\, mis on pühendatud eurooplastele\, kes on suunanud ühiskondlikke muutusi. \nNädal algab üritusega Brüsselis Euroopa Parlamendis\, kuhu on oodatud üle 1000 osaleja. Kogu päeva jooksul on noortel võimalus vahetada arvamusi ja tutvustada oma seisukohti. \nAvaüritus toimub 24. aprillil 2026 kell 9.15–11.00 Euroopa Parlamendi suures istungitesaalis. Euroopa Parlamendi presidendi Roberta Metsola avakõnele järgneb kõrgetasemeline istung\, kus positsioonikad kõnelejad ja lennukate ideedega noored peavad hoogsat dialoogi. \nAvaürituse veebiülekannet saab jälgida Euroopa Noorteportaali lehel. Samal lehel leiad ka hulgaliselt temaatilisi sündmusi\, mis toimuvad nii Eestis kui ka üle kogu Euroopa.
URL:https://www.teeviit.ee/sundmus/euroopa-noortenadal-2026/
CATEGORIES:teemanädal
END:VEVENT
BEGIN:VEVENT
DTSTART;VALUE=DATE:20260424
DTEND;VALUE=DATE:20260502
DTSTAMP:20260424T025421
CREATED:20260420T141455Z
LAST-MODIFIED:20260420T141455Z
UID:59929-1776988800-1777679999@www.teeviit.ee
SUMMARY:Üheks päevaks vabatahtlikuks
DESCRIPTION:Selle aasta Euroopa noortenädal keskendub solidaarsusele ja õiglusele ning tähistab ka 30 aastat vabatahtlikku tegevust Euroopas. Seega pakume noortele võimalust kaasa lüüa vabatahtlikus tegevuses ühe päeva jooksul – head teha on hea tunne!   \nOsalemine ei eelda varasemat kogemust ning on mõeldud kõigile noortele alates 16. eluaastast\, kes tunnevad huvi vabatahtlikkuse vastu\, kuid ei ole veel kindlad\, kas ja kuidas panustada. Otsime noori\, kes soovivad olla osa inspireerivast nädalast\, täis uusi tutvusi ja põnevaid väljakutseid. \nVõimalused kaasalöömiseks: \n\nEuroopa Solidaarsuskorpuse (edaspidi ESK) vabatahtliku kõrval nn varjuna\, mis tähendab\, et noor saab veeta ühe päeva organisatsioonis koos teisest riigist tulnud noore vabatahtlikuga ning saada parema ettekujutuse\, milline on vabatahtliku elu ja töö välismaal. See on hea võimalus õppida otse kogemuse kaudu ning saada inspiratsiooni enda tulevasteks sammudeks;\n\n\nÜksi noorele huvipakkuvas organisatsioonis\, näiteks botaanikaaias\, loomade varjupaigas või mõnes teises sobivas kohas\, mis on valmis noorele oma uksed lahti tegema. Vabatahtlikuna noor saab kaasa lüüa erinevates rollides olenevalt valdkonnast\, tema kogemustest ja organisatsiooni eripärast.\n\nUuri lisaks\, millised organisatsioonid on algatusega kaasa löönud. \nHuvi korral võta ühendust Eurodesk & EuroPeers Eesti võrgustike koordinaatoriga: natalja.klimenkova@harno.ee
URL:https://www.teeviit.ee/sundmus/uheks-paevaks-vabatahtlikuks/
LOCATION:Üle-eestiline
CATEGORIES:Üleskutse
ATTACH;FMTTYPE=image/png:https://www.teeviit.ee/wp-content/uploads/2026/04/uheks_paevaks_vabatahtlikuks_-_natalja_klimenkova.png
END:VEVENT
BEGIN:VEVENT
DTSTART;VALUE=DATE:20260424
DTEND;VALUE=DATE:20260616
DTSTAMP:20260424T025421
CREATED:20260420T144040Z
LAST-MODIFIED:20260420T144040Z
UID:59945-1776988800-1781567999@www.teeviit.ee
SUMMARY:Esita oma idee: Eurodesk annab noortealgatustele kuni 1000€
DESCRIPTION:Eurodesk Eesti toetab noortealgatusi kuni 1000 euroga!\nEuroopa noortenädala raames kutsub Eurodesk Eesti 13–30-aastaseid noori ellu viima oma lennukaid ideid\, sündmusi või kampaaniaid. Toetust summas kuni 1000 eurot saab taotleda vähemalt neljaliikmeline noortegrupp\, et lahendada mõni kogukonna probleem või edendada Euroopa väärtusi\, nagu solidaarsus\, demokraatia ja rohelised väärtused.\nMida saab teha? Toetatavate tegevuste ring on lai\, hõlmates näiteks:\n\ntöötubasid\, arutelusid ja debatte;\nloomingulisi ja kultuurilisi aktsioone;\nvabatahtlikku tööd ja kohalikke kampaaniaid;\nveebitegevusi ja digitaalseid üritusi.\n\nOlulised kuupäevad:\n\nIdeede esitamine: 24. aprill– 15. mai 2026.\nTugitegevused: Samal perioodil toimuvad ideelaborid ja nõustamised\, kus aidatakse ideid vormistada.\nElluviimine: Algatused tuleb ellu viia hiljemalt 31. oktoobriks 2026.\n\nEriti on oodatud noored\, kellel puudub varasem kogemus Erasmus+ või Euroopa Solidaarsuskorpuse projektidega. Idee esitamiseks tuleb täita vastav vorm ja valida toetav Eurodesk Eesti partner.\nLisainfot saab küsida Eurodesk Eesti koordinaatorilt või piirkondlikelt kontaktisikutelt
URL:https://www.teeviit.ee/sundmus/esita-oma-idee-eurodesk-annab-noortealgatustele-kuni-1000e/
CATEGORIES:Taotlusvoor
ATTACH;FMTTYPE=image/png:https://www.teeviit.ee/wp-content/uploads/2026/04/noortealgatus_euroopanoored_1600-x-800.png
END:VEVENT
BEGIN:VEVENT
DTSTART;TZID=Europe/Tallinn:20260424T170000
DTEND;TZID=Europe/Tallinn:20260424T190000
DTSTAMP:20260424T025421
CREATED:20251216T084925Z
LAST-MODIFIED:20251216T084925Z
UID:57918-1777050000-1777057200@www.teeviit.ee
SUMMARY:YFU Eesti infotund vahetusõpilaseks saamisest! (Tallinnas)
DESCRIPTION:Kas oled mõelnud\, et sooviksid õppida selgeks uue keele\, kogeda täiesti teistsugust koolielu ja kultuuri? \nJust seda pakub vahetusaasta YFUga! 🌍 \nKui oled 14–18 (või kohe 14 saamas)\, ootame sind infotundi\, kus saad teada\, kuidas vahetusaasta päriselt käib – alates kandideerimisest kuni uute sõprade ja kogemusteni teisel pool maailma. \nInfotundi viivad läbi noored\, kes on ise vahetusaastal käinud. Nad jagavad oma lugusid\, nippe ja vastuseid küsimustele\, mis võivad tekkida. See on parim võimalus kuulda vahetult\, mis tunne on hüpata tundmatusse ja avastada täiesti uut kultuuri. \n📍 Infotund toimub Tallinnas kohapeal. Tule ja saa inspiratsiooni oma elu seikluslikemaks aastaks! \nRegistreerimine: https://fienta.com/et/yfu-eesti-infotund-vahetusopilaseks-hakkamiseks-160720#title
URL:https://www.teeviit.ee/sundmus/yfu-eesti-infotund-vahetusopilaseks-saamisest-tallinnas-5/
LOCATION:YFU Eesti MTÜ (Tallinn)\, Kevade tänav 4a\, Tallinn\, Estonia
CATEGORIES:Infotund
ATTACH;FMTTYPE=image/webp:https://www.teeviit.ee/wp-content/uploads/2025/12/allalaadimine.webp
END:VEVENT
END:VCALENDAR