BEGIN:VCALENDAR
VERSION:2.0
PRODID:-//Teeviit - ECPv6.15.4//NONSGML v1.0//EN
CALSCALE:GREGORIAN
METHOD:PUBLISH
X-ORIGINAL-URL:https://www.teeviit.ee
X-WR-CALDESC:Events for Teeviit
REFRESH-INTERVAL;VALUE=DURATION:PT1H
X-Robots-Tag:noindex
X-PUBLISHED-TTL:PT1H
BEGIN:VTIMEZONE
TZID:Europe/Tallinn
BEGIN:DAYLIGHT
TZOFFSETFROM:+0200
TZOFFSETTO:+0300
TZNAME:EEST
DTSTART:20250330T010000
END:DAYLIGHT
BEGIN:STANDARD
TZOFFSETFROM:+0300
TZOFFSETTO:+0200
TZNAME:EET
DTSTART:20251026T010000
END:STANDARD
END:VTIMEZONE
BEGIN:VEVENT
DTSTART;TZID=Europe/Tallinn:20251218T100000
DTEND;TZID=Europe/Tallinn:20251218T110000
DTSTAMP:20260419T193433
CREATED:20251216T090112Z
LAST-MODIFIED:20251216T090120Z
UID:57920-1766052000-1766055600@www.teeviit.ee
SUMMARY:Veebiloeng "Teadlikumalt tööturule"
DESCRIPTION:Veebiloengus saad tervikliku ülevaate tööturust ja tööotsingu erinevatest etappidest.  \n\nTutvustame\, mida muutuv tööturg täna ja tulevikus vajab.\nSelgitame\, millised on erinevad tööotsimise võimalused.\nRäägime kandideerimiseks vajalikest dokumentidest ja töövestlusel osalemisest.\n\nOsalemine annab sulle ülevaate tööotsingu protsessist ja teadmised\, kuidas tööd leida ja tööle kandideerida. \nVaata lisainfot ja telli endale meeldetuletus Minukarjäär lehel. https://minukarjaar.ee/et/sundmused/teadlikumalt-tooturule-18-12-25
URL:https://www.teeviit.ee/sundmus/veebiloeng-teadlikumalt-tooturule/
LOCATION:Veebis
CATEGORIES:Veebiloeng
ATTACH;FMTTYPE=image/png:https://www.teeviit.ee/wp-content/uploads/2025/12/teadlikult-tooturule.png
END:VEVENT
END:VCALENDAR