BEGIN:VCALENDAR
VERSION:2.0
PRODID:-//Teeviit - ECPv6.15.4//NONSGML v1.0//EN
CALSCALE:GREGORIAN
METHOD:PUBLISH
X-WR-CALNAME:Teeviit
X-ORIGINAL-URL:https://www.teeviit.ee
X-WR-CALDESC:Events for Teeviit
REFRESH-INTERVAL;VALUE=DURATION:PT1H
X-Robots-Tag:noindex
X-PUBLISHED-TTL:PT1H
BEGIN:VTIMEZONE
TZID:Europe/Tallinn
BEGIN:DAYLIGHT
TZOFFSETFROM:+0200
TZOFFSETTO:+0300
TZNAME:EEST
DTSTART:20250330T010000
END:DAYLIGHT
BEGIN:STANDARD
TZOFFSETFROM:+0300
TZOFFSETTO:+0200
TZNAME:EET
DTSTART:20251026T010000
END:STANDARD
END:VTIMEZONE
BEGIN:VEVENT
DTSTART;VALUE=DATE:20251001
DTEND;VALUE=DATE:20251101
DTSTAMP:20260419T224033
CREATED:20250912T083709Z
LAST-MODIFIED:20250912T083709Z
UID:56104-1759276800-1761955199@www.teeviit.ee
SUMMARY:Eurodeski "Time To Move" kampaania
DESCRIPTION:Oktoobris toimub noorte mobiilsusvõimalusi tutvustav Eurodeski kampaania “Time to Move”. \nKampaania raames leiab üle Euroopa aset ligi tuhat nii füüsilist kui veebipõhist tegevust\, mille kohta saab täpsemat infot kampaania veebilehelt.  \nLisainfo: Time to Move – Discover ways to experience Europe
URL:https://www.teeviit.ee/sundmus/eurodeski-time-to-move-kampaania/
CATEGORIES:Sündmus
ATTACH;FMTTYPE=image/jpeg:https://www.teeviit.ee/wp-content/uploads/2025/09/timetomove.jpg
END:VEVENT
BEGIN:VEVENT
DTSTART;VALUE=DATE:20251031
DTEND;VALUE=DATE:20251101
DTSTAMP:20260419T224033
CREATED:20250903T055434Z
LAST-MODIFIED:20250903T055625Z
UID:55913-1761868800-1761955199@www.teeviit.ee
SUMMARY:Noorte keelemängude konkurss „Keelelahing"
DESCRIPTION:Kas oled valmis oma ideed mänguks vormima? \nKeelelahing on Eesti Keele Instituudi korraldatav konkurss\, mis kutsub 8.–12. klassi noori looma mänge keele õppimiseks. See võib olla äge digimäng\, lahe lauamäng või midagi täiesti uut – fantaasial pole piire! \nMis ees ootab?\n\n31. oktoober 2025 – esita oma ideekavand.\n6. november 2025 – tule inspiratsioonipäevale\, kus ootavad töötoad\, mentorid ja loovus.\nnov–märts – arenda oma ideest päris prototüüp.\n2. märts 2026 – saada valmis prototüübi kirjeldus ja videoklipp.\n26. märts 2026 – finaalmess ja suur auhinnajagamine!\n\nMiks tulla mängu?\n\nSaad oma ideed päriselt ellu viia.\n  Saad siduda mängu loomise ka näiteks oma õpilasfirma\, loovtöö või praktilise tööga.\nÕpid mängude loomisest ja töötad koos ägedate mentoritega.\nTutvud teiste loovate noortega üle Eesti.\nJa mis kõige tähtsam – parimad mängud saavad auhinnatud!\n\n\n👉 Loe rohkem ja registreeru: https://eki.ee/keelelahing/
URL:https://www.teeviit.ee/sundmus/noorte-keelemangude-konkurss-keelelahing/
LOCATION:Veebis
CATEGORIES:Konkurss
ATTACH;FMTTYPE=image/jpeg:https://www.teeviit.ee/wp-content/uploads/2025/09/thumbnail_1000025485.jpg
END:VEVENT
BEGIN:VEVENT
DTSTART;VALUE=DATE:20251031
DTEND;VALUE=DATE:20251101
DTSTAMP:20260419T224033
CREATED:20251003T072609Z
LAST-MODIFIED:20251003T073158Z
UID:56772-1761868800-1761955199@www.teeviit.ee
SUMMARY:Disainikonkurss "Friendship across Europe"
DESCRIPTION:Lase oma loovusel särada ja osale Eurodeski Time to Move kampaania disainikonkursil ning võida auhindu! \nDisainikonkursi teema on “Friendship across Europe” ja sellel on kolm kategooriat: \n\nkoomiksid (comic)\,\nAI kunstnikud (AI artists)\,\nmitte-AI kunstnikud (non-AI artistst).\n\nKuidas osaleda? \n\nLoo oma konkursitöö endale sobivad kategoorias.\nEsita see hiljemalt 31.10.2025.\nLase oma sõpradel oma töö poolt hääletada!\n\nKonkursi võitjatele on välja pandud põnevad auhinnad nagu Polaroid kaamera\, graafiline tahvelarvuti\, rongipass ja palju muud. \nKolme finalisti töid kasutatakse 2027. aasta Time To Move kampaania meenetel. \nTööde esitamine ja täpsemad tingimused leiad siit (inglise keeles).
URL:https://www.teeviit.ee/sundmus/disainikonkurss-friendship-across-europe/
LOCATION:Veebis
CATEGORIES:Konkurss
ATTACH;FMTTYPE=image/png:https://www.teeviit.ee/wp-content/uploads/2025/10/kuvatommis-2025-10-03-102544.png
END:VEVENT
BEGIN:VEVENT
DTSTART;TZID=Europe/Tallinn:20251031T100000
DTEND;TZID=Europe/Tallinn:20251031T153000
DTSTAMP:20260419T224033
CREATED:20250904T052812Z
LAST-MODIFIED:20250904T052812Z
UID:55962-1761904800-1761924600@www.teeviit.ee
SUMMARY:Veebiseminar "Loov ja kriitiline mõtlemine"
DESCRIPTION:Osalema on oodatud 15-29aastased noored.  \nSeminari eesmärk on arendada osalejate loovat ja kriitilist mõtlemist ning aidata neil rakendada neid oskusi igapäevaelus ja tööalases tegevuses probleemide lahendamisel kasutades erinevaid loova ja kriitilise mõtlemise tehnikaid. \nVeebiseminaridel osalemine on kõigile TASUTA. Seminarisari koosneb kaheksast osast. Osaleda on võimalik kõikidel seminaridel või valida osalemiseks oma huvidele ja vajadusetele vastava teemaga seminar(id). Kui Lives osaleda ei saa\, siis registreerunutele on seminarid järele vaadatavad 30 päeva. \nInfo kõikide noorte üldoskuste arendamise veebiseminaride kohta on leitav Eesti Töötukassa lehelt. \nKoolitaja: Indrek Maripuu \nSeminarisarja rahastatakse Euroopa Liit taasterahastu NextGenerationEU vahenditest.   \nRegistreerumine: https://minukarjaar.ee/et/sundmused/veebiseminar-loov-ja-kriitiline-motlemine-31-10-2025
URL:https://www.teeviit.ee/sundmus/veebiseminar-loov-ja-kriitiline-motlemine-2/
LOCATION:Veebis
CATEGORIES:Loeng,veebinar,Veebiloeng
ATTACH;FMTTYPE=image/jpeg:https://www.teeviit.ee/wp-content/uploads/2025/09/loov-ja-kriitiline-motlemine.jpg
END:VEVENT
END:VCALENDAR