BEGIN:VCALENDAR
VERSION:2.0
PRODID:-//Teeviit - ECPv6.15.4//NONSGML v1.0//EN
CALSCALE:GREGORIAN
METHOD:PUBLISH
X-ORIGINAL-URL:https://www.teeviit.ee
X-WR-CALDESC:Events for Teeviit
REFRESH-INTERVAL;VALUE=DURATION:PT1H
X-Robots-Tag:noindex
X-PUBLISHED-TTL:PT1H
BEGIN:VTIMEZONE
TZID:Europe/Tallinn
BEGIN:DAYLIGHT
TZOFFSETFROM:+0200
TZOFFSETTO:+0300
TZNAME:EEST
DTSTART:20250330T010000
END:DAYLIGHT
BEGIN:STANDARD
TZOFFSETFROM:+0300
TZOFFSETTO:+0200
TZNAME:EET
DTSTART:20251026T010000
END:STANDARD
END:VTIMEZONE
BEGIN:VEVENT
DTSTART;VALUE=DATE:20250904
DTEND;VALUE=DATE:20251024
DTSTAMP:20260419T224059
CREATED:20250912T082917Z
LAST-MODIFIED:20250912T082917Z
UID:56091-1756944000-1761263999@www.teeviit.ee
SUMMARY:Noorte keelemängude konkurss "Keelelahing"
DESCRIPTION:8.–12. klassi õpilasi oodatakse looma keeleõppemänge konkursile “Keelelahing”\, mis aitaks muuta võõrkeele õppimise põnevaks ja mänguliseks. \nMäng võib olla lauamäng\, kaardimäng\, äpp\, veebimäng või muu loov lahendus. Erilist tähelepanu pööratakse eesti keele kui teise keele õppimisele. \nKonkursil saab osaleda üksi või kuni 5-liikmelises meeskonnas\, soovitatakse kaasata juhendaja. Parimatele töödele on ette nähtud auhinnad ning võimalus oma mäng avaldada. \nOlulisemad tähtajad: \n\nIdeekavandi esitamine: 31. oktoober 2025\nInspiratsioonipäev: 6. november 2025\nPrototüübi esitamine: 2. märts 2026\nFinaalmess ja võitja väljakuulutamine: 26. märts 2026\n\nLisainfo ja täpsemad tingimused: Noortekonkurss “Keelelahing” – EKI.ee
URL:https://www.teeviit.ee/sundmus/noorte-keelemangude-konkurss-keelelahing-2/
LOCATION:Veebis
CATEGORIES:Konkurss
ATTACH;FMTTYPE=image/jpeg:https://www.teeviit.ee/wp-content/uploads/2025/09/keelelahing.jpg
END:VEVENT
BEGIN:VEVENT
DTSTART;VALUE=DATE:20251001
DTEND;VALUE=DATE:20251101
DTSTAMP:20260419T224059
CREATED:20250912T083709Z
LAST-MODIFIED:20250912T083709Z
UID:56104-1759276800-1761955199@www.teeviit.ee
SUMMARY:Eurodeski "Time To Move" kampaania
DESCRIPTION:Oktoobris toimub noorte mobiilsusvõimalusi tutvustav Eurodeski kampaania “Time to Move”. \nKampaania raames leiab üle Euroopa aset ligi tuhat nii füüsilist kui veebipõhist tegevust\, mille kohta saab täpsemat infot kampaania veebilehelt.  \nLisainfo: Time to Move – Discover ways to experience Europe
URL:https://www.teeviit.ee/sundmus/eurodeski-time-to-move-kampaania/
CATEGORIES:Sündmus
ATTACH;FMTTYPE=image/jpeg:https://www.teeviit.ee/wp-content/uploads/2025/09/timetomove.jpg
END:VEVENT
BEGIN:VEVENT
DTSTART;VALUE=DATE:20251023
DTEND;VALUE=DATE:20251024
DTSTAMP:20260419T224059
CREATED:20251013T102400Z
LAST-MODIFIED:20251013T102400Z
UID:56837-1761177600-1761263999@www.teeviit.ee
SUMMARY:Meediapäev noortele Sakala Keskuses
DESCRIPTION:16-26-aastaseid noori oodatakse osalema meediapädevale\, mis toimub Viljandis linnas Sakala Keskuses. \nMeediapädeval saab proovida kätt filmimises\, esinemises ja monteerimises. Päev täis töötube\, praktilisi kogemusi ja inspireerivaid kõnesid. \nSündmuse eesmärk on anda noortele julgus ja oskused teha oma esimesi videoid ja telesaateid. Kohal on sisulooja ja mentorid\, kellelt saab nii praktilisi nippe kui ka innustust oma ideede elluviimiseks. \nOsalemine on tasuta\, vajalik on registreerimine SIIN.
URL:https://www.teeviit.ee/sundmus/meediapaev-noortele-sakala-keskuses/
LOCATION:Sakala Keskus (Viljandi)
CATEGORIES:Inspiratsioonipäev
ATTACH;FMTTYPE=image/png:https://www.teeviit.ee/wp-content/uploads/2025/10/558964516_839727685394626_559156292940219427_n.1759990904.png
END:VEVENT
BEGIN:VEVENT
DTSTART;TZID=Europe/Tallinn:20251023T100000
DTEND;TZID=Europe/Tallinn:20251023T153000
DTSTAMP:20260419T224059
CREATED:20250904T052927Z
LAST-MODIFIED:20250904T052927Z
UID:55964-1761213600-1761233400@www.teeviit.ee
SUMMARY:Veebiseminar "Roheoskused"
DESCRIPTION:Osalema on oodatud 15-29aastased noored.  \nSeminari eesmärk on suurendada osalejate teadlikkust ja teadmisi keskkonnaalastes probleemidest ja väljakutsetest ja nende mõjust ühiskonnale ja majandusele\, sh ringmajandusest ning pakkuda praktilisi lahendusi\, kuidas vähendada negatiivset keskkonnamõju\, valida keskkonnasõbralike alternatiive ja tuvastada rohepesu. \nVeebiseminaridel osalemine on kõigile TASUTA. Seminarisari koosneb kaheksast osast. Osaleda on võimalik kõikidel seminaridel või valida osalemiseks oma huvidele ja vajadusetele vastava teemaga seminar(id). Kui Lives osaleda ei saa\, siis registreerunutele on seminarid järele vaadatavad 30 päeva. \nInfo kõikide noorte üldoskuste arendamise veebiseminaride kohta on leitav Eesti Töötukassa lehelt. \nKoolitaja: Anneli Ohvril \nSeminarisarja rahastatakse Euroopa Liit taasterahastu NextGenerationEU vahenditest.   \nRegistreerumine: https://minukarjaar.ee/et/sundmused/veebiseminar-roheoskused-23-10-2025
URL:https://www.teeviit.ee/sundmus/veebiseminar-roheoskused-2/
LOCATION:Veebis
CATEGORIES:veebinar,Veebiloeng,Loeng
ATTACH;FMTTYPE=image/jpeg:https://www.teeviit.ee/wp-content/uploads/2025/09/roheoskused.jpg
END:VEVENT
END:VCALENDAR