BEGIN:VCALENDAR
VERSION:2.0
PRODID:-//Teeviit - ECPv6.15.4//NONSGML v1.0//EN
CALSCALE:GREGORIAN
METHOD:PUBLISH
X-WR-CALNAME:Teeviit
X-ORIGINAL-URL:https://www.teeviit.ee
X-WR-CALDESC:Events for Teeviit
REFRESH-INTERVAL;VALUE=DURATION:PT1H
X-Robots-Tag:noindex
X-PUBLISHED-TTL:PT1H
BEGIN:VTIMEZONE
TZID:Europe/Tallinn
BEGIN:DAYLIGHT
TZOFFSETFROM:+0200
TZOFFSETTO:+0300
TZNAME:EEST
DTSTART:20250330T010000
END:DAYLIGHT
BEGIN:STANDARD
TZOFFSETFROM:+0300
TZOFFSETTO:+0200
TZNAME:EET
DTSTART:20251026T010000
END:STANDARD
END:VTIMEZONE
BEGIN:VEVENT
DTSTART;TZID=Europe/Tallinn:20250827T100000
DTEND;TZID=Europe/Tallinn:20250827T153000
DTSTAMP:20260420T013026
CREATED:20250604T062721Z
LAST-MODIFIED:20250604T062721Z
UID:54509-1756288800-1756308600@www.teeviit.ee
SUMMARY:Eesti Töötukassa Karjääriõppe konverents 2025
DESCRIPTION:Karjääriõpe seisab muutuste lävel. Töömaailm uueneb kiiresti\, noorte ootused on muutumas ja tehnoloogia – eriti tehisaru (AI) – toob kaasa täiesti uued võimalused\, aga ka küsimused. \nKarjääriõppe konverents 2025 toob ühele lavale hariduse ja tööelu eestvedajad\, et koos uurida: \n\nKuidas saab AI toetada karjääriõpet ja noorte teadlikke valikuid?\nMillised on konkreetsed tööriistad ja parimad praktikad\, mida juba täna koolis rakendada?\nKuidas hoida fookust õpilase arengul\, kui maailm tema ümber muutub kiiremini kui kunagi varem?\n\nKonverentsil saad: \n\nPraktilisi ideid AI rakendamiseks õppetöös\nÜlevaate tööturu suundumustest ja noorte ootustest\nInspiratsiooni tööandjate ja koolide koostööst\nning vähemalt 3 mõtet või võtet\, mida saad kohe oma töös kasutada!\n\nOsalemiseks on end vaja eelnevalt registreerida siin.
URL:https://www.teeviit.ee/sundmus/eesti-tootukassa-karjaarioppe-konverents-2025/
LOCATION:Veebis ja Lõuna-Eeesti Karjäärikeskuses (Tartu)
CATEGORIES:Konverents
END:VEVENT
END:VCALENDAR