BEGIN:VCALENDAR
VERSION:2.0
PRODID:-//Teeviit - ECPv6.15.4//NONSGML v1.0//EN
CALSCALE:GREGORIAN
METHOD:PUBLISH
X-ORIGINAL-URL:https://www.teeviit.ee
X-WR-CALDESC:Events for Teeviit
REFRESH-INTERVAL;VALUE=DURATION:PT1H
X-Robots-Tag:noindex
X-PUBLISHED-TTL:PT1H
BEGIN:VTIMEZONE
TZID:Europe/Tallinn
BEGIN:DAYLIGHT
TZOFFSETFROM:+0200
TZOFFSETTO:+0300
TZNAME:EEST
DTSTART:20250330T010000
END:DAYLIGHT
BEGIN:STANDARD
TZOFFSETFROM:+0300
TZOFFSETTO:+0200
TZNAME:EET
DTSTART:20251026T010000
END:STANDARD
END:VTIMEZONE
BEGIN:VEVENT
DTSTART;TZID=Europe/Tallinn:20250708T150000
DTEND;TZID=Europe/Tallinn:20250708T160000
DTSTAMP:20260421T231628
CREATED:20250604T060921Z
LAST-MODIFIED:20250604T060921Z
UID:54490-1751986800-1751990400@www.teeviit.ee
SUMMARY:Eesti Töötukassa veebiloeng "Kuidas karjäärivalikuteks infot leida?"
DESCRIPTION:Veebiloengus “Kuidas karjäärivalikuteks infot leida?” saab soovitusi ja praktilisi juhiseid\, kuidas pidevalt muutuvas infoküllases maailmas oskuslikumalt leida vajalikku infot haridus- ja töömaailma kohta. \nVeebiloengu korraldaja on Eesti Töötukassa ja lisainfot leiab minukarjäär.ee veebilehe sündmuste kalendrist.
URL:https://www.teeviit.ee/sundmus/eesti-tootukassa-veebiloeng-kuidas-karjaarivalikuteks-infot-leida/
LOCATION:Microsoft Teams
CATEGORIES:Veebiloeng
END:VEVENT
END:VCALENDAR