BEGIN:VCALENDAR
VERSION:2.0
PRODID:-//Teeviit - ECPv6.15.4//NONSGML v1.0//EN
CALSCALE:GREGORIAN
METHOD:PUBLISH
X-ORIGINAL-URL:https://www.teeviit.ee
X-WR-CALDESC:Events for Teeviit
REFRESH-INTERVAL;VALUE=DURATION:PT1H
X-Robots-Tag:noindex
X-PUBLISHED-TTL:PT1H
BEGIN:VTIMEZONE
TZID:Europe/Tallinn
BEGIN:DAYLIGHT
TZOFFSETFROM:+0200
TZOFFSETTO:+0300
TZNAME:EEST
DTSTART:20250330T010000
END:DAYLIGHT
BEGIN:STANDARD
TZOFFSETFROM:+0300
TZOFFSETTO:+0200
TZNAME:EET
DTSTART:20251026T010000
END:STANDARD
END:VTIMEZONE
BEGIN:VEVENT
DTSTART;VALUE=DATE:20250323
DTEND;VALUE=DATE:20250427
DTSTAMP:20260422T223323
CREATED:20250304T055600Z
LAST-MODIFIED:20250304T132140Z
UID:47835-1742688000-1745711999@www.teeviit.ee
SUMMARY:Loomekonkurss — riigivanemaga Brüsselisse!
DESCRIPTION:Riigivanem August Rei Sihtasutus koostöös Eesti NATO Ühinguga ja Eesti Ajaloo- ja Ühiskonnaõpetajate Seltsiga kutsub osalema Eesti riigi looja ja hoidja August Rei sünniaastapäeva tähistamiseks esseekonkursil 9.-12. klassi õpilastele vanuses 15-19 eluaastat. Oodatud on ka MULTIMEEDIA lahendused. \n\n\n\n\n\nLoomekonkursi kaks parimat sõidavad europealinna Brüsselisse\, kus saavad võimaluse tutvuda Euroopa Parlamendi võimukoridoride ja ajaloolise vanalinnaga\nLoomulikult premeerime ka õpetajaid – preemiareis ka parimate juhendajatele.\nIgale osalejale kingitus ja tänukiri.\n\n\n\n\n\nSinult oodatakse:\n\n\n\n\n\neestikeelset esseed pikkusega ca 6 000 – 9 000 tähemärki. Esitatud tööle märgi oma kontaktandmed: kool\, klass ning juhendaja nimi. PDF formaadis dokumendi nimeks panna autori nimi.\neraldi kategoorias võid oma võitlustöö vormistada ka multimeedialahendusena (video\, animatsioon\, koomiks jne)\, mille palume laadida pilve ja edastada lingina.\nsaada oma võistlustöö hiljemalt 23. aprillil 2025.a. kell 23.59 aadressil: essee@riigivanem.ee.\n\n\n\n\n\nEssee teemad ja muu lisainfo
URL:https://www.teeviit.ee/sundmus/loomekonkurss-riigivanemaga-brusselisse/
CATEGORIES:Konkurss
ATTACH;FMTTYPE=image/png:https://www.teeviit.ee/wp-content/uploads/2025/02/cb5292e0-44d4-f38f-9fca-339932375925.png
END:VEVENT
BEGIN:VEVENT
DTSTART;TZID=Europe/Tallinn:20250327T100000
DTEND;TZID=Europe/Tallinn:20250327T153000
DTSTAMP:20260422T223323
CREATED:20250128T104813Z
LAST-MODIFIED:20250128T104813Z
UID:45640-1743069600-1743089400@www.teeviit.ee
SUMMARY:Veebiseminar "Loov ja kriitiline mõtlemine"
DESCRIPTION:Osalema on oodatud 15-29aastased noored.  \nSeminari eesmärk on arendada osalejate loovat ja kriitilist mõtlemist ning aidata neil rakendada neid oskusi igapäevaelus ja tööalases tegevuses probleemide lahendamisel kasutades erinevaid loova ja kriitilise mõtlemise tehnikaid. \nVeebiseminaridel osalemine on kõigile TASUTA. Seminarisari koosneb kaheksast osast. Osaleda on võimalik kõikidel seminaridel või valida osalemiseks oma huvidele ja vajadusetele vastava teemaga seminar(id). Kui Lives osaleda ei saa\, siis registreerunutele on seminarid järele vaadatavad 30 päeva. \nInfo kõikide noorte üldoskuste arendamise veebiseminaride kohta on leitav Eesti Töötukassa lehelt. \nKoolitaja: Indrek Maripuu \nSeminarisarja rahastatakse Euroopa Liit taasterahastu NextGenerationEU vahenditest.   \nRegistreerumine: https://minukarjaar.ee/et/sundmused/veebiseminar-loov-ja-kriitiline-motlemine-27-03-2025
URL:https://www.teeviit.ee/sundmus/veebiseminar-loov-ja-kriitiline-motlemine/
LOCATION:Veebis
CATEGORIES:veebinar
ATTACH;FMTTYPE=image/jpeg:https://www.teeviit.ee/wp-content/uploads/2025/01/loov-ja-kriitiline-motlemine.jpg
END:VEVENT
BEGIN:VEVENT
DTSTART;TZID=Europe/Tallinn:20250327T140000
DTEND;TZID=Europe/Tallinn:20250327T160000
DTSTAMP:20260422T223323
CREATED:20250306T100703Z
LAST-MODIFIED:20250306T100703Z
UID:47882-1743084000-1743091200@www.teeviit.ee
SUMMARY:Veebiloeng "Kuidas ennast mõjuvalt tutvustada?"
DESCRIPTION:Eesti Töötukassa kutsub 27.03.2025 kell 14-16 osalema veebiloengule “Kuidas ennast mõjuvalt tutvustada?”.  \nVeebitöötoas saad teada\, kuidas töövestlusel kandidaadina enda tugevusi ja isikupära esile tuua\, mil moel luua hea esmamulje ning kontakt vestluspartneritega. \n\nAnalüüsitakse iga osaleja tugevusi ja eeldusi.\nJuhendatakse tööpakkumistest tööandja vajadusi välja lugema.\nArutletakse \, kuidas luua argumente oma eelduste esiletoomiseks.\nHarjutatakse veenvat ja enesekindlat esinemist.\n\nOsalemine annab oskuse ennast parimast küljest esitleda läbi mõjusa enesetutvustuse ning julguse töövestlusel enesekindlalt suhelda. Saad parima tulemuse kui osaled aruteludes\, esitad küsimusi ning jagad kogemusi! \nLisainfo ja registreerumise link siin. \nKohtade arv on piiratud!
URL:https://www.teeviit.ee/sundmus/veebiloeng-kuidas-ennast-mojuvalt-tutvustada/
LOCATION:Veebis
CATEGORIES:veebinar
END:VEVENT
END:VCALENDAR