BEGIN:VCALENDAR
VERSION:2.0
PRODID:-//Teeviit - ECPv6.15.4//NONSGML v1.0//EN
CALSCALE:GREGORIAN
METHOD:PUBLISH
X-WR-CALNAME:Teeviit
X-ORIGINAL-URL:https://www.teeviit.ee
X-WR-CALDESC:Events for Teeviit
REFRESH-INTERVAL;VALUE=DURATION:PT1H
X-Robots-Tag:noindex
X-PUBLISHED-TTL:PT1H
BEGIN:VTIMEZONE
TZID:Europe/Tallinn
BEGIN:DAYLIGHT
TZOFFSETFROM:+0200
TZOFFSETTO:+0300
TZNAME:EEST
DTSTART:20250330T010000
END:DAYLIGHT
BEGIN:STANDARD
TZOFFSETFROM:+0300
TZOFFSETTO:+0200
TZNAME:EET
DTSTART:20251026T010000
END:STANDARD
END:VTIMEZONE
BEGIN:VEVENT
DTSTART;VALUE=DATE:20250301
DTEND;VALUE=DATE:20250302
DTSTAMP:20260422T223238
CREATED:20250127T104945Z
LAST-MODIFIED:20250604T072807Z
UID:45531-1740787200-1740873599@www.teeviit.ee
SUMMARY:Noorte Mõttehäkk ootab osalejaid!
DESCRIPTION:Kuue maakonna ühise koostööprojekti „Lõuna-Eesti ettevõtlikud noored“ raames toimub 19. märtsil 2025 Põlva Kultuuri- ja Huvikeskuses esmakordselt noortele suunatud sotsiaalne häkaton Noorte MõtteHäkk. \nNoorte MõtteHäki eesmärk on suunata noori lahendama kohalikke või laiemaid ühiskondlikke väljakutseid pädevate mentorite toel inspireerivas koosloomelises keskkonnas. \nEsmakordselt kogu Lõuna-Eestit kaasav üritus pakub noortele vanuses 13-21 aastat suurepärast võimalust töötada välja oma sotsiaalsed algatused ja arendada oma leidlikkust\, ettevõtlikkust\, koostöövõimekust ning sotsiaalset vastutustunnet. \nKutsume Jõgeva-\, Viljandi-\, Põlva-\, Tartu-\, Valga- ja Võrumaa noori osa võtma sotsiaalsest häkatonist. \nOsaleda saavad kõik noored\, kes esitavad oma meeskonna või üksiku osaleja idee hiljemalt 1. märtsiks 2025. Iga maakonna jaoks on planeeritud 15 osalejat\, sh kuni 3 meeskonda\, mille suurus on 3–5 liiget. Oodatud on ka noored üksi. Ideede registreerimise vormi ja täiendava info saadame noortele lähinädalate jooksul. \nHäkaton toimub ühepäevasena\, kus noored saavad koos mentorite abiga fookuse paika panna ja soovitused\, kuidas oma ideed ellu viia. Üritusele kaasatakse mentorid\, kes omavad kogemusi just sotsiaalsete algatuste ja kaasamise valdkonnas. See on suurepärane võimalus noortele arendada oma ideed praktilises ja toetavas keskkonnas\, saada väärtuslikku tagasisidet ning suuniseid oma sotsiaalse mõju suurendamiseks. \nNoored saavad osaleda ja kasutada võimalust oma ideid ellu viia. \nMaakondlikud arenduskeskused korraldavad noortele tasuta transpordi Põlvasse ja tagasi. Sündmus on osalejatele tasuta ning boonuseks on soe lõunasöök. \nLoodame\, et teie noored leiavad selle sündmuse inspireerivaks ja kasulikuks! \n  \nIdee registreerimine ja lisainfo: https://arenduskeskus.polvamaa.ee/haridus/sotsiaalne-hakaton/ \nKontaktid maakondades:\nJõgevamaa Arendus- ja Ettevõtluskeskus – Evelyn Sepp\, 5301 4868\, evelyn.sepp@jaek.ee;\nPõlvamaa Arenduskeskus – Kristel Koddala\, 5341 6112\, kristel.koddala@polvamaa.ee;\nTartu Ärinõuandla – Janeli Virnas\, 5348 4685\, janeli.virnas@arinouandla.ee;\nValgamaa Arenguagentuur – Rasmus Onkel\, 5626 4816\, rasmus.onkel@valgamaa.ee;\nViljandimaa Arenduskeskus – Einar Ilves\, 5616 6969\, einar.ilves@viljandimaa.ee\nVõrumaa Arenduskeskus – Kadi Kaur\, 521 7705\, kadi.kaur@vorumaa.ee \n  \nSündmus toimub Koostööprojekti “Lõuna-Eesti ettevõtlikud noored (LEEN)” raames. Rohkem infot projekti kohta: https://ettevotlikudnoored.ee/projektist/ 
URL:https://www.teeviit.ee/sundmus/noorte-mottehakk-ootab-osalejaid/
LOCATION:Põlva Kultuuri- ja Huvikeskus\, Kesk tn 15\, Põlva\, Põlva maakond\, 63308\, Estonia
CATEGORIES:Muu
ATTACH;FMTTYPE=image/jpeg:https://www.teeviit.ee/wp-content/uploads/2025/01/474536145_1011024444386927_814456431976963540_n.jpg
END:VEVENT
END:VCALENDAR