BEGIN:VCALENDAR
VERSION:2.0
PRODID:-//Teeviit - ECPv6.15.4//NONSGML v1.0//EN
CALSCALE:GREGORIAN
METHOD:PUBLISH
X-ORIGINAL-URL:https://www.teeviit.ee
X-WR-CALDESC:Events for Teeviit
REFRESH-INTERVAL;VALUE=DURATION:PT1H
X-Robots-Tag:noindex
X-PUBLISHED-TTL:PT1H
BEGIN:VTIMEZONE
TZID:Europe/Tallinn
BEGIN:DAYLIGHT
TZOFFSETFROM:+0200
TZOFFSETTO:+0300
TZNAME:EEST
DTSTART:20250330T010000
END:DAYLIGHT
BEGIN:STANDARD
TZOFFSETFROM:+0300
TZOFFSETTO:+0200
TZNAME:EET
DTSTART:20251026T010000
END:STANDARD
END:VTIMEZONE
BEGIN:VEVENT
DTSTART;VALUE=DATE:20250225
DTEND;VALUE=DATE:20250301
DTSTAMP:20260422T223250
CREATED:20250213T102930Z
LAST-MODIFIED:20250213T102930Z
UID:46394-1740441600-1740787199@www.teeviit.ee
SUMMARY:Virtuaalne karjäärinädal üheksandikele
DESCRIPTION:Hea üheksandik! \nKas sa juba tead\, milline kool on just sinu jaoks see õige? Oled sisseastumisvestluseks valmistunud ja enesekindel? Usud\, et tunned oma võimalusi ja valikuid ning sihid on paigas? Kui jah\, siis suurepärane! \nKui siiski kõhkled oma valikutes\, ei tea veel päris täpselt\, mida edasi teha või tahaksid kõrvalpilku oma plaanidele\, siis töötukassa virtuaalne karjäärinädal on sinu jaoks! \nVeebruarikuisel koolivaheajal ootavad sind veebis praktilised loengud\, kasulikud vestlussimulatsioonid ning inspireerivad karjäärinõustamised. Vali endale sobiv teema või koguni mitu ning oled sisseastumiseks parimal moel valmistunud. \nKolmapäev\, 26.02.2025\n13:00 – 14:30\nVeebiloeng “Kooli kandideerimine Hiiumaal” \nLoengus tutvustame sulle kooli kandideerimisvestluse protsessi. Nii saad teada\, mismoodi vestlus toimub ja kuidas end kandideerimiseks ette valmistada. Räägime\, mil moel vestlusel oma parimad küljed esile tuua\, kuidas jätta mõjus esmamulje ning vaatame koos üle ka enamlevinud vestluse küsimused. \nNB! Osalemiseks on vajalik registreerumine. \nNeljapäev\, 27.02.2025\n11:00 – 12:00\nVeebiloeng “Haridussüsteem ja õppimisvõimalused – valikud peale põhikooli” \nLoengus anname sulle ülevaate õppimisvõimalustest peale põhikooli\, et saaksid just enda oskuste ja omadustega arvestavalt sobiva valiku teha. Räägime kust ja kuidas vajalikku infot leida ning toome välja\, millistes ametites on praegu töökäte puudus. Näitame\, kuidas analüüsida isiksuseomadusi\, mis on erinevate valikute eelduseks ning juhendame\, kuidas mõelda läbi õpitee valikud ja ka varuplaani juhuks\, kui eelistatuim plaan ei peaks õnnestuma. \nNB! Osalemiseks on vajalik registreerumine. \n12:00 – 13:00\nVeebiloeng “Kooli kandideerimine” \nLoengus tutvustame sulle kooli kandideerimisvestluse protsessi. Nii saad teada\, mismoodi vestlus toimub ja kuidas end kandideerimiseks ette valmistada. Räägime\, mil moel vestlusel oma parimad küljed esile tuua\, kuidas jätta mõjus esmamulje ning vaatame koos üle ka enamlevinud vestluse küsimused. \nNB! Osalemiseks on vajalik registreerumine. \n  \n14:00 – 15:00 \nVeebiloeng “Kooli kandideerimine” \nLoengus tutvustame sulle kooli kandideerimisvestluse protsessi. Nii saad teada\, mismoodi vestlus toimub ja kuidas end kandideerimiseks ette valmistada. Räägime\, mil moel vestlusel oma parimad küljed esile tuua\, kuidas jätta mõjus esmamulje ning vaatame koos üle ka enamlevinud vestluse küsimused. \nNB! Osalemiseks on vajalik registreerumine. \nSamuti on sul võimalus arutada oma plaane ja võimalusi karjäärinõustajaga või läbi teha koolivestluse simulatsioon. Broneeri aeg karjäärispetsialistiga kohtumiseks aegsasti\, sest aegu on piiratud koguses. \nVaata karjääripäeva täpsemat infot Minukarjäär sündmuste rubriigist.
URL:https://www.teeviit.ee/sundmus/virtuaalne-karjaarinadal-uheksandikele/
LOCATION:Veebis
ATTACH;FMTTYPE=image/jpeg:https://www.teeviit.ee/wp-content/uploads/2025/02/virtuaalne-karjaarinadal-uheksandikele.jpg
END:VEVENT
BEGIN:VEVENT
DTSTART;VALUE=DATE:20250228
DTEND;VALUE=DATE:20250301
DTSTAMP:20260422T223250
CREATED:20250129T100652Z
LAST-MODIFIED:20250129T100652Z
UID:45733-1740700800-1740787199@www.teeviit.ee
SUMMARY:TÜ Viljandi kultuuriakadeemia virtuaalne lahtiste uste päev
DESCRIPTION:TÜ Viljandi kultuuriakadeemia virtuaalne lahtiste uste päev toimub 28. veebruaril 2025. Infotundides saad ülevaate kultuuriakadeemia õppekavadest ja erialadest ning võimaluse küsida programmijuhtidelt sisseastumise ja õppega seotud küsimusi. \n16. aprillil 2025 toimub tänavune teine lahtiste uste päev\, mil ootame Sind kohapeale. Kultuuriakadeemias on nii palju põnevaid töökodasid\, stuudioid ja muid õpperuume\, mida peab oma silmaga nägema! Loe lähemalt siit. \nRohkem infot: https://viljandi.ut.ee/et/lahtised-uksed-2025
URL:https://www.teeviit.ee/sundmus/tu-viljandi-kultuuriakadeemia-virtuaalne-lahtiste-uste-paev/
LOCATION:Veebis
CATEGORIES:Avatud uste päev
ATTACH;FMTTYPE=image/jpeg:https://www.teeviit.ee/wp-content/uploads/2025/01/tu-vk.jpg
END:VEVENT
END:VCALENDAR