BEGIN:VCALENDAR
VERSION:2.0
PRODID:-//Teeviit - ECPv6.15.4//NONSGML v1.0//EN
CALSCALE:GREGORIAN
METHOD:PUBLISH
X-ORIGINAL-URL:https://www.teeviit.ee
X-WR-CALDESC:Events for Teeviit
REFRESH-INTERVAL;VALUE=DURATION:PT1H
X-Robots-Tag:noindex
X-PUBLISHED-TTL:PT1H
BEGIN:VTIMEZONE
TZID:Europe/Tallinn
BEGIN:DAYLIGHT
TZOFFSETFROM:+0200
TZOFFSETTO:+0300
TZNAME:EEST
DTSTART:20250330T010000
END:DAYLIGHT
BEGIN:STANDARD
TZOFFSETFROM:+0300
TZOFFSETTO:+0200
TZNAME:EET
DTSTART:20251026T010000
END:STANDARD
END:VTIMEZONE
BEGIN:VEVENT
DTSTART;VALUE=DATE:20250204
DTEND;VALUE=DATE:20250219
DTSTAMP:20260423T000951
CREATED:20250205T083735Z
LAST-MODIFIED:20250205T083735Z
UID:46173-1738627200-1739923199@www.teeviit.ee
SUMMARY:Kandideeri HEY e-kursusele "Media and Information Literacy (MIL)"
DESCRIPTION:Otsid võimalust täiendada oma meedia- ja infokirjaoskust? Liitu Human Rights Education (HEY) e-kursusega! \n\nKellele? 18-30aastastele noortele\nMillal? 03.-30.03.2025\nKus? Veebis\, inglise keeles\nKohti on vaid 40 – kas oled üks neist?\n\nKandideeri hiljemalt 18.02.2025! Ära jäta võimalust kasutamata! \nKandideerimine: https://forms.office.com/pages/responsepage.aspx?id=grBJPtViSUilsIbtUZKH0hIY5Hy9ndZGgszPLJx0BlBUNTJaSlFYWDZSQTYwQkNFV1dFUzU4WEI5US4u&route=shorturl \nLisainfo: https://rm.coe.int/call-for-pax-hey-mil-2025-en/1680b3a5ae
URL:https://www.teeviit.ee/sundmus/kandideeri-hey-e-kursusele-media-and-information-literacy-mil/
LOCATION:Veebis
CATEGORIES:Koolitus
ATTACH;FMTTYPE=image/png:https://www.teeviit.ee/wp-content/uploads/2025/02/hey.png
END:VEVENT
BEGIN:VEVENT
DTSTART;TZID=Europe/Tallinn:20250213T100000
DTEND;TZID=Europe/Tallinn:20250213T153000
DTSTAMP:20260423T000951
CREATED:20250128T103203Z
LAST-MODIFIED:20250128T103203Z
UID:45634-1739440800-1739460600@www.teeviit.ee
SUMMARY:Veebiseminar noortele "Projektijuhtimise alused"
DESCRIPTION:Osalema on oodatud 15-29aastased noored.  \nSeminari eesmärk on arendada osalejatele vajalikud baasteadmised ja osaoskused projektijuhtimise põhimõtete\, projektijuhtimise protsessi\, projekti planeerimise ning projektijuhtimise parimate tavade kohta kasutades selleks sobivaid tööriistu ja meetodeid. \nVeebiseminaridel osalemine on kõigile TASUTA. Seminarisari koosneb kaheksast osast. Osaleda on võimalik kõikidel seminaridel või valida osalemiseks oma huvidele ja vajadusetele vastava teemaga seminar(id). Kui Lives osaleda ei saa\, siis registreerunutele on seminarid järele vaadatavad 30 päeva. \nInfo kõikide noorte üldoskuste arendamise veebiseminaride kohta on leitav Eesti Töötukassa lehelt. \nKoolitaja: Anneli Ohvril \nSeminarisarja rahastatakse Euroopa Liit taasterahastu NextGenerationEU vahenditest.   \nRegistreerumine: https://minukarjaar.ee/et/sundmused/veebiseminar-projektijuhtimise-alused-13-02-2025
URL:https://www.teeviit.ee/sundmus/veebiseminar-noortele-projektijuhtimise-alused-2/
LOCATION:Veebis
CATEGORIES:veebinar
ATTACH;FMTTYPE=image/jpeg:https://www.teeviit.ee/wp-content/uploads/2025/01/projektijuhtimise-alused.jpg
END:VEVENT
BEGIN:VEVENT
DTSTART;TZID=Europe/Tallinn:20250213T160000
DTEND;TZID=Europe/Tallinn:20250213T180000
DTSTAMP:20260423T000951
CREATED:20250131T102619Z
LAST-MODIFIED:20250131T102619Z
UID:46041-1739462400-1739469600@www.teeviit.ee
SUMMARY:Veebikonverents Art+Youth+GenAI: Conversations for Change
DESCRIPTION:Loominguhuviline noor! \nEuroopa tippspetsialistid\, noored loomeinimesed ja haridushuvilised kohtuvad murrangulisel veebikonverentsil Art+Youth+GenAI: Conversations for Change\, et uurida loovuse tulevikku tehisintellekti ajastul. Tule osale TASUTA veebisündmusel\, mis toimub 13. veebruaril Eesti aja järgi 16.00-18.00.  \nKohtade arv on piiratud! Reserveeri endale veebikonverentsil koht:  https://shorturl.at/LVYuA \nSündmus on  osa Erasmus+ projektist “A(I)rt & Youthprojektist ja toob kokku 100 osalejat üle Euroopa\, et leida vastused küsimustele: \n\n\nKuidas mõjutab kunsti tulevikku tehisintellekti kiire areng?\n\n\n\n\nMida võiksid loomeinimesed võita AI-kasutamisest loomeprotsessis?\n\n\n\n\nMillised on praktikaid saaks noorsootöövaldkonnas\, hariduses kasutada\, et toetada loovuse arengut?\n\n\nKonverentsi teises pooles toimub kaks paneeldiskussiooni. Esiteks\, AI and the Arts: Redefining Creativity\, Collaboration\, and Cultural Impact\, räägime loomesektori tulevikust ja tehisintellekti kultuurilisest mõjust  kunstimaastikule. \nTeises paneelis – Transforming Perspectives: Artists Reflect on Learning and Creating with AI – võtavad lava üle noored loojad\, sealhulgas Tartu noortevahetusel osalejad\, kes arutlevad oma ootuste ja võimaluste üle\, mida nad tehisintellektis näevad. \nTöökeel: Inglise keel \nKonverentsil esinevad:  Lea Novikov (Tartu 2024 Extended)\, Lisete Vaarman (Tartu 2024 Extended)\, Hanna Simona Allas (Tartu 2024 Teadus ja Tehnoloogia programmiliini juht)\, Siim Parisoo aka DEW8 (Ö-Stuudio)\, karen darricades (Never Gallery Ready)\, dr Andrzej Molenda ja Zuzanna Kasprzyk ( CyberWill projekt)\, Nadia Nadesan (2023. aasta Open Future stipendiaat)\, Ania Grabowska\, Magda Weseloy (In Connection) ja Apolline Weirich (WIDE ANDCO). \nRegistreeri veebikonverentsil siin:  https://shorturl.at/LVYuA \nLisainfo: https://www.facebook.com/events/475446305604299 \nArt + Youth + GenAI: Conversations for Change on osa suuremast Erasmus+ algatusest A(I)rt & Youth: The Future of Art\, The Future\, The Art of the Future\, mis julgustab noori kriitiliselt mõtlema tehisintellekti rollile kunstis.  Üritust korraldavad koostöös Tartu 2024\, Inter Alia\, WIDE ANDCO\, In Connection. \nProgramm\nArt +Youth+GenAI: Conversations for Change\n16:00 – Introduction\n16:10 – Lightning Talks\n16:50 – Q&A\n17:00 – break\n17:05– Panel discussion:  AI and the Arts: Redefining Creativity\, Collaboration\, and Cultural Impact  \n17:30 – Panel discussion: Transforming Perspectives: Artists Reflect on Learning and Creating with AI\n17:55 – Closing words
URL:https://www.teeviit.ee/sundmus/veebikonverents-art-youth-genai-conversations-for-change/
LOCATION:Veebis
ATTACH;FMTTYPE=image/jpeg:https://www.teeviit.ee/wp-content/uploads/2025/01/art-youth.jpg
ORGANIZER;CN="Tartu 2024 Extended":MAILTO:angela.ader@tartu2024.ee
END:VEVENT
END:VCALENDAR