BEGIN:VCALENDAR
VERSION:2.0
PRODID:-//Teeviit - ECPv6.15.4//NONSGML v1.0//EN
CALSCALE:GREGORIAN
METHOD:PUBLISH
X-WR-CALNAME:Teeviit
X-ORIGINAL-URL:https://www.teeviit.ee
X-WR-CALDESC:Events for Teeviit
REFRESH-INTERVAL;VALUE=DURATION:PT1H
X-Robots-Tag:noindex
X-PUBLISHED-TTL:PT1H
BEGIN:VTIMEZONE
TZID:Europe/Tallinn
BEGIN:DAYLIGHT
TZOFFSETFROM:+0200
TZOFFSETTO:+0300
TZNAME:EEST
DTSTART:20250330T010000
END:DAYLIGHT
BEGIN:STANDARD
TZOFFSETFROM:+0300
TZOFFSETTO:+0200
TZNAME:EET
DTSTART:20251026T010000
END:STANDARD
END:VTIMEZONE
BEGIN:VEVENT
DTSTART;VALUE=DATE:20250105
DTEND;VALUE=DATE:20250106
DTSTAMP:20260423T014007
CREATED:20250102T101813Z
LAST-MODIFIED:20250103T072052Z
UID:44436-1736035200-1736121599@www.teeviit.ee
SUMMARY:Projektikirjutamise laager Erasmus+ ja Euroopa Solidaarsuskorpuse taotluste arendamiseks
DESCRIPTION:Projektikirjutamise laagri eesmärk on pakkuda 13-26aastastele noortele tuge projekti kirjutamiseks ja idee arendamiseks Erasmus+ või Euroopa Solidaarsuskorpuse taotlusvooru 12. või 20. veebruariks 2025. Laager toimub 17.-19. jaanuar 2025 Tallinnas.  \n\n\n\n\n\n\n\n\n\n\n\n\nProjektikirjutamise laager annab osalejatele võimaluse: \n\narendada oma ideest kvaliteetse Erasmus+ või Euroopa Solidaarsuskorpuse programmi taotluse\,\nsaada nõu ja tuge agentuuri ekspertidelt (nõustajad-koolitajad on abiks ka pärast laagrit)\,\nvõtta aeg maha ja keskenduda oma tiimis projekti planeerimisele.\n\n\n\n\n\n\n\n\n\n\n\n\n\nLaagrisse on oodatud osalema 2-5 liikmelised tiimid. Kaasa võib võtta juhendaja/ mentori (noorsootöötaja\, õpetaja\, projektikogemusega täiskasvanu). Kui kõigi grupiliikmete vanus on alla 18\, siis on juhendaja kaasamine tungivalt soovituslik. \nLaagri töökeeleks on eesti keel\, aga jooksvat tõlget ja abi pakume ka vene ja inglise keeles. Laagris osalemine on tasuta. \nTallinnast väljastpoolt tulijatele organiseeritakse majutus ja transpordikulud. \nLaagrisse kandideerimiseks tuleb kirjeldada esialgset projektiideed ja osalemise motivatsiooni hiljemalt 5. jaanuaril 2025 kandideerimisvormis. Valitud osalejatega võetakse ühendust hiljemalt 7. jaanuaril 2024. \n\n\n\n\n\n\n\n\n\n\n\n\n\n\n\n\nKANIDEERIMISVORM\n\n\n\n\n\n\n\n\n\n\n\n\n\n\n\n\nUuri ettevalmistuseks lisa: \n\nErasmus+ noortevahetus (rahvusvaheline)\nErasmus+ osalusprojekt (kohalik või rahvusvaheline)\nEuroopa Solidaarsuskorpuse solidaarsusprojekt (kohalik)\n\n\n\n\n\n\n\n\n\n\n\n\n\n\n\n\n\n\n\n\n\n\n\n\n\n\n\n\n\n\n\nTäpsem info:\nKarin Öövel\nkarin.oovel@harno.ee\n55919229
URL:https://www.teeviit.ee/sundmus/projektikirjutamise-laager-erasmus-ja-euroopa-solidaarsuskorpuse-taotluste-arendamiseks/
LOCATION:Tallinn
CATEGORIES:laager
ATTACH;FMTTYPE=image/png:https://www.teeviit.ee/wp-content/uploads/2025/01/laura-infokirja-formaat-21-500x320-1.png
END:VEVENT
END:VCALENDAR