BEGIN:VCALENDAR
VERSION:2.0
PRODID:-//Teeviit - ECPv6.15.4//NONSGML v1.0//EN
CALSCALE:GREGORIAN
METHOD:PUBLISH
X-ORIGINAL-URL:https://www.teeviit.ee
X-WR-CALDESC:Events for Teeviit
REFRESH-INTERVAL;VALUE=DURATION:PT1H
X-Robots-Tag:noindex
X-PUBLISHED-TTL:PT1H
BEGIN:VTIMEZONE
TZID:Europe/Tallinn
BEGIN:DAYLIGHT
TZOFFSETFROM:+0200
TZOFFSETTO:+0300
TZNAME:EEST
DTSTART:20240331T010000
END:DAYLIGHT
BEGIN:STANDARD
TZOFFSETFROM:+0300
TZOFFSETTO:+0200
TZNAME:EET
DTSTART:20241027T010000
END:STANDARD
END:VTIMEZONE
BEGIN:VEVENT
DTSTART;VALUE=DATE:20241106
DTEND;VALUE=DATE:20241201
DTSTAMP:20260423T061545
CREATED:20241106T132428Z
LAST-MODIFIED:20241106T132538Z
UID:43465-1730851200-1733011199@www.teeviit.ee
SUMMARY:Lastekaitse Liidu loovkonkurss 2024
DESCRIPTION:Eesti Lastekaitse Liit kutsub lapsi ja noori osalema loovkonkursil\, mis tähistab ÜRO lapse õiguste konventsiooni 35. aastapäeva ning juhib tähelepanu artiklile 12 – lapsel on õigus avaldada oma arvamust. \nLaste ja noorte töid oodatakse joonistades või kirjalikult vastavalt vanuserühmadele: \n\nLasteaia vanuserühmalt ja 1.-3. klassi õpilastelt joonistusi teemal “Kellele ma kingiksin eeskuju õhupalli?“\n4.-12. klassi õpilastelt esseesid teemal  „Kui ma oleksin täiskasvanu…“\n\nLaekunud töid tunnustatakse auhindadega ja silmapaistvamad tööd avaldatakse ka Märka Last veebiportaalis. \nLoovkonkurssil osalemiseks ootame töid elektroonilisel kujul e-posti aadressile konkurss@lastekaitseliit.ee  hiljemalt 30. novembriks 2024. \nTäpsed konkursi tingimused ja info SIIN.
URL:https://www.teeviit.ee/sundmus/lastekaitse-liidu-loovkonkurss-2024/
CATEGORIES:Konkurss
ATTACH;FMTTYPE=image/jpeg:https://www.teeviit.ee/wp-content/uploads/2024/11/loovkonkurss.jpg
END:VEVENT
BEGIN:VEVENT
DTSTART;TZID=Europe/Tallinn:20241121T100000
DTEND;TZID=Europe/Tallinn:20241121T170000
DTSTAMP:20260423T061545
CREATED:20240821T103326Z
LAST-MODIFIED:20240821T103326Z
UID:40892-1732183200-1732208400@www.teeviit.ee
SUMMARY:Veebiseminar noortele "Rahatarkus"
DESCRIPTION:Veebiseminar noortele “Rahatarkus” toimub neljapäeval\, 21. novembril kell 10 ZOOM´is. Koolitaja on Jekaterina Tint.  \nSeminari eesmärk on arendada osalejatele vajalikud teadmised ja oskused\, et nad saaksid teha teadlikke otsuseid oma rahaasjades ning juhtida oma rahalisi ressursse paremini ja tulemuslikumalt. \nVeebiseminarile registreerumine \nVeebiseminaridel osalemine on kõigile TASUTA ning on registreerunutele järele vaadatavad 30 päeva. \nInfo kõikide noorte üldoskuste arendamise veebiseminaride kohta on leitav rubriigist Seminarid \nSeminarisarja rahastatakse Euroopa Liit taasterahastu NextGenerationEU vahenditest. 
URL:https://www.teeviit.ee/sundmus/veebiseminar-noortele-rahatarkus/
LOCATION:Veebis
CATEGORIES:Koolitus,veebinar
ATTACH;FMTTYPE=image/png:https://www.teeviit.ee/wp-content/uploads/2024/08/fb_logodega3_uued-oskused-viivad-toomaailmas-edasi.-1.png
END:VEVENT
END:VCALENDAR