BEGIN:VCALENDAR
VERSION:2.0
PRODID:-//Teeviit - ECPv6.15.4//NONSGML v1.0//EN
CALSCALE:GREGORIAN
METHOD:PUBLISH
X-ORIGINAL-URL:https://www.teeviit.ee
X-WR-CALDESC:Events for Teeviit
REFRESH-INTERVAL;VALUE=DURATION:PT1H
X-Robots-Tag:noindex
X-PUBLISHED-TTL:PT1H
BEGIN:VTIMEZONE
TZID:Europe/Tallinn
BEGIN:DAYLIGHT
TZOFFSETFROM:+0200
TZOFFSETTO:+0300
TZNAME:EEST
DTSTART:20240331T010000
END:DAYLIGHT
BEGIN:STANDARD
TZOFFSETFROM:+0300
TZOFFSETTO:+0200
TZNAME:EET
DTSTART:20241027T010000
END:STANDARD
END:VTIMEZONE
BEGIN:VEVENT
DTSTART;VALUE=DATE:20240812
DTEND;VALUE=DATE:20240818
DTSTAMP:20260423T094024
CREATED:20240701T091203Z
LAST-MODIFIED:20240701T091203Z
UID:39723-1723420800-1723939199@www.teeviit.ee
SUMMARY:Tartu Noortepäevad
DESCRIPTION:Kas teadsid\, et 12. augustil tähistatakse rahvusvahelist noortepäeva? Just nii see on ning sel puhul lööme ka Tartus peo püsti! 🎉 \nSeekordne Noortepäev tuleb eriti maagiline\, sest sündmus on alguseks noorte festivalile mis toimub 12-17 august. See noortefestival võtab endasse kõik võimalikud kunstiliigid\, sülitades need publikule ette näitamiseks. Fookuses on just noored ja nende seotus kunstis. \nSul on võimalik…\n🔮 Tutvuda erinevate kunstidega\n🔮 leida sündmusi salapärastest kohtadest\n🔮 Kogeda erinevate riikide kultuuri \nTule sina ka!\nÜritust korraldavad Tartu 2024 Extended noored.\nSündmust toetab Tartu Noorsootöö keskus. \nKui soovid kehakinnitust või vajad öömaja\, vaata Tartu 2024 külalislahkuse võrgustiku liikmete pakkumisi: https://tartu2024.ee/soovitused-tartulinn
URL:https://www.teeviit.ee/sundmus/tartu-noortepaevad/
CATEGORIES:Festival
ORGANIZER;CN="Tartu 2024 Extended":MAILTO:angela.ader@tartu2024.ee
END:VEVENT
BEGIN:VEVENT
DTSTART;TZID=Europe/Tallinn:20240812T120000
DTEND;TZID=Europe/Tallinn:20240812T210000
DTSTAMP:20260423T094024
CREATED:20240805T103858Z
LAST-MODIFIED:20240805T104428Z
UID:40646-1723464000-1723496400@www.teeviit.ee
SUMMARY:Noortefestival "ARVAMUS AVAB UKSI"
DESCRIPTION:Noortefestival “ARVAMUS AVAB UKSI” tähistab 12.augustil rahvusvahelist noortepäeva suurejoonelisemalt kui seda on varasemalt tehtud. \nViiratsis ootab SIND Perepargis mitmekülgne programm\, kus saad tegevustes osaleda kell 12.0-18.00:\n⚽️sportlikest tegevustest (sumo\, parkour\, pamperpallid\, inimkabe\, hiiglaslik jenga)\n📚elavast raamatukogust\, kust saad laenutada PÄRIS inimesi\, raamaturiiulist võib leida näiteks vallavanema\, Viljandi vallavolikogu esimehe Mait Allase\, Sekspositiivi\, rahatarkur Miljonineiu ja mitmeid teisi üllatavaid elavaid raamatuid!\n🙏vaimse tervise alal saate mõtteid rahustada mandala töötoas ning kirjutada kõik südamelt ära “Südamekirjade” aktsioonis\n🌮toiduala kostitab hea ja paremaga – saab nii pannkooke\, jäätist\, sushit kui ka tänavatoitu\, võta kaasa taskuraha (sobib nii sularaha kui kaardimakse)\nViiratsi Laululaval algab programm kell 18.00:\n🤓kell 18.00 toimub noorte ja otsustajate vaheline arutelu “Kas ka täiskasvanuid on võimalik õpetada noori päriselt kuulama?”. Arutlema tulevad Viljandi valla ja Viljandi linna noortevolikogude noored ja volikogude esimehed.\n🎤kell 19.00-21.00 paneb festivalile punkti INGER & BÄND. \nKui soovid festivalile tulla stiilselt\, kasuta selleks festivalirongi\, mis sõidab nii Viljandist Viiratsisse kui viib sind ka hiljem festivalilt koju. Festivalile pääsed Viljandist Uku keskuse bussipeatusest. Tagasi koju saad Viiratsi koolimaja eest\, astu lihtsalt tasuta ratastel rongile.\nNii festivalipääse kui rongipilet on täiesti tasuta! \nKui soovid festivalile saabudes kogeda eriti sooja vastuvõttu\, soeta endale Fienta keskkonnast varajase tärkaja tasuta pilet\, mis tagab sulle festivalile saabudes üllatuse ja osaled loosis\, mis toimub õhtuse kontserdi vahepausi ajal. \nPS! Festivalipäeval kohapeal loosipileteid soetada ei saa.\nStay tuned! Jooksvat informatsiooni lisandub kuni festivali alguseni. \nNoortefestival “Arvamus avab uksi” on osa Erasmus+ ja Euroopa Solidaarsuskorpuse osalusprojektist\, mis on kaasrahastatud Euroopa Liidu poolt. Septebris kohtume festivalijärgselt maailmakohvikutes Viljandi valla koolides! \nFestivali korraldavad Viljandi valla noortekeskus\, Viljandi valla noortevolikogu ja Viljandi valla noored.\nKontakt: Liis Särg (Viljandi valla noortekeskuse juht) 5330 6363
URL:https://www.teeviit.ee/sundmus/noortefestival-arvamus-avab-uksi/
LOCATION:Viiratsi Perepark
CATEGORIES:Festival
ATTACH;FMTTYPE=image/png:https://www.teeviit.ee/wp-content/uploads/2024/08/festivali-plakat-a3-2.png
END:VEVENT
BEGIN:VEVENT
DTSTART;TZID=Europe/Tallinn:20240812T150000
DTEND;TZID=Europe/Tallinn:20240812T220000
DTSTAMP:20260423T094024
CREATED:20240730T130402Z
LAST-MODIFIED:20240730T130402Z
UID:40611-1723474800-1723500000@www.teeviit.ee
SUMMARY:Põlva valla noortepäev
DESCRIPTION:Põlva valla noortepäeva 12. augustil 2024. \nRohkem infot saad oma piirkonna (Põlva valla) noorsootöötajalt.
URL:https://www.teeviit.ee/sundmus/polva-valla-noortepaev/
LOCATION:Vastse-Kuuste Noortekeskus
CATEGORIES:Festival
ATTACH;FMTTYPE=image/jpeg:https://www.teeviit.ee/wp-content/uploads/2024/07/polva-valla.jpg
END:VEVENT
END:VCALENDAR