BEGIN:VCALENDAR
VERSION:2.0
PRODID:-//Teeviit - ECPv6.15.4//NONSGML v1.0//EN
CALSCALE:GREGORIAN
METHOD:PUBLISH
X-ORIGINAL-URL:https://www.teeviit.ee
X-WR-CALDESC:Events for Teeviit
REFRESH-INTERVAL;VALUE=DURATION:PT1H
X-Robots-Tag:noindex
X-PUBLISHED-TTL:PT1H
BEGIN:VTIMEZONE
TZID:Europe/Tallinn
BEGIN:DAYLIGHT
TZOFFSETFROM:+0200
TZOFFSETTO:+0300
TZNAME:EEST
DTSTART:20240331T010000
END:DAYLIGHT
BEGIN:STANDARD
TZOFFSETFROM:+0300
TZOFFSETTO:+0200
TZNAME:EET
DTSTART:20241027T010000
END:STANDARD
END:VTIMEZONE
BEGIN:VEVENT
DTSTART;TZID=Europe/Tallinn:20240517T100000
DTEND;TZID=Europe/Tallinn:20240518T200000
DTSTAMP:20260423T141000
CREATED:20240424T121356Z
LAST-MODIFIED:20240424T121356Z
UID:37280-1715940000-1716062400@www.teeviit.ee
SUMMARY:Tartu [eel]arvamusfestival
DESCRIPTION:17.-18. mai 2024 toob [eel]arvamusfestival oma põnevad arutelud otse Tartu südamesse. Tartu Keskpargis toimuv festival leiab lahendusi Tartu\, Lõuna-Eesti ja Euroopa põletavatele kultuurilistele\, sotsiaalsetele ja ökoloogilistele väljakutsetele. [eel]arvamusfestival on mööda Eestit ringi rändav kohalik arutelusündmus\, mis on inspireeritud Paide Arvamusfestivali elavast õhkkonnast. \n 17.-18. mai 2024\n Tartu Keskpark\n Festival on külastajatele tasuta \nFestivalile on oodatud külalised igas vanuses nii Tartust kui kaugemalt\, et nautida huvitavaid arutelusid ja ise kaasa rääkida koos arvamusliidrite\, ekspertide ning eestvedajatega. \nLisainfo siin.
URL:https://www.teeviit.ee/sundmus/tartu-eelarvamusfestival/
LOCATION:Tartu Keskpark\, Tartu\, Eesti
CATEGORIES:Festival
ATTACH;FMTTYPE=image/jpeg:https://www.teeviit.ee/wp-content/uploads/2024/04/417699758_684776847151497_9062456623395134429_n.jpg
ORGANIZER;CN="Arvamusfestival koost%C3%B6%C3%B6s DD Sihtasutusega":MAILTO:maarjaliis.mereaar@arvamusfestival.ee
END:VEVENT
END:VCALENDAR