BEGIN:VCALENDAR
VERSION:2.0
PRODID:-//Teeviit - ECPv6.15.4//NONSGML v1.0//EN
CALSCALE:GREGORIAN
METHOD:PUBLISH
X-ORIGINAL-URL:https://www.teeviit.ee
X-WR-CALDESC:Events for Teeviit
REFRESH-INTERVAL;VALUE=DURATION:PT1H
X-Robots-Tag:noindex
X-PUBLISHED-TTL:PT1H
BEGIN:VTIMEZONE
TZID:Europe/Tallinn
BEGIN:DAYLIGHT
TZOFFSETFROM:+0200
TZOFFSETTO:+0300
TZNAME:EEST
DTSTART:20240331T010000
END:DAYLIGHT
BEGIN:STANDARD
TZOFFSETFROM:+0300
TZOFFSETTO:+0200
TZNAME:EET
DTSTART:20241027T010000
END:STANDARD
END:VTIMEZONE
BEGIN:VEVENT
DTSTART;VALUE=DATE:20240322
DTEND;VALUE=DATE:20240408
DTSTAMP:20260423T154837
CREATED:20240314T133246Z
LAST-MODIFIED:20240318T151251Z
UID:36132-1711065600-1712534399@www.teeviit.ee
SUMMARY:Küberturvalisusevõistlust Telia Cyber Battle of Nordic-Baltics 2024
DESCRIPTION:CTF Tech koos nimisponsor Teliaga on juba 5. aastat korraldamas Põhjamaade ja Baltikumi suurimat küberturvalisusevõistlust Telia Cyber Battle of Nordic-Baltics 2024.  Kutsume noori osalema küberteadlikkuse virtuaalsetes bootcamp’ides ja seejärel võistluse eelvoorust osa võtma! \n  \nBootcampid ja eelvoor \nKõigil 15-24. aastastel noortel on võimalus ilma eelteadmiseid omamata osa võtta 23.-24. märts  või 6.-7. aprill küberturvalisuses bootcampides ning eelvoorust\, et jõuda heade tulemuste korral finaali võistlema. \nTule osale bootcampides 23.-24. märts või 6.-7. aprill (registreeru siin: https://ctftech.com/telia-cyber-battle-of-nordic-baltic-2024-cybercation/#virtual). Saad baasteadmised küberturvalisuse ekspertide poolt\, kes räägivad päris asjadest ning õpetavad\, kuidas häkkimine tegelikult käib. \nPane kokku võistkond ning ole valmis registreeruma Eesti eelvoorus (toimub septembris 2024\, info saadame peagi või hoia silma peal kodulehel: www.ctftech.com ). Võistkonnast saab osa võtta 3-5 inimest. \nPS! Lisaks segameeskondadele\, on võistlustele oodatud ka ainult tüdrukud\, sest ainult tüdrukute tiimid lähevad eelvoorus ja finaalis eraldi arvestusse. \n  \nTelia CBONB 2024 finaal \nFinaal leiab aset 1. novembril Tartus\, Tartu Ülikooli Spordihoones. Üritusel on konverents õpetajatele\, kus kõigest\, mis puudutab täna haridust\, küberturvalisust nii meil Eestis kui Põhjamaades ja teistes Balti riikides. \nSamal ajal kui õpetajad on konverentsil\, saavad õpilased osa võtta meelelahutusalal toimuvatest tegevustest\, töötubadest (planeerimisel) ning jälgida Põhjamaade-Baltikumi suurimat küberturvalisuse finaali ning telgitaguseid. \nEelmise aasta täispikkavõistlust saab jälgida siit: https://vimeo.com/892210784 \nLisainfo: Kätlin Koemets\, katlin.koemets@ctftech.com\, CTF Tech´i tegevjuht
URL:https://www.teeviit.ee/sundmus/kuberturvalisusevoistlust-telia-cyber-battle-of-nordic-baltics-2024/
LOCATION:Veebis
CATEGORIES:Konkurss
ATTACH;FMTTYPE=image/png:https://www.teeviit.ee/wp-content/uploads/2024/03/ctf.png
END:VEVENT
BEGIN:VEVENT
DTSTART;TZID=Europe/Tallinn:20240404T090000
DTEND;TZID=Europe/Tallinn:20240404T153000
DTSTAMP:20260423T154837
CREATED:20240401T052443Z
LAST-MODIFIED:20240402T130358Z
UID:36467-1712221200-1712244600@www.teeviit.ee
SUMMARY:Avatus Uste Päev VOCOs
DESCRIPTION:Neljapäeval\, 04. aprillil\, on VOCO õppehooned taas rahvast täis. Räägime\, miks on kutseõpe äge ja kui palju võimalusi õppimine VOCO-s avab Su edasiseks eluks!  \nAvatud Uste Päeval avame uksed kõikidele huvilistele ja tulevastele õppuritele\, et tutvustada meie kooli tegevust\, erialasid\, õppimisvõimalusi ja keskkonda. Võimalus saada aimu meie kooli toimimisest\, osaleda erinevates töötubades\, erialalaadal\, miniloengutes ja chillida mõnsal noortealal.. Ning otseloomulikult saad oma küsimustele vastuseid ja soovi korral anda juba sisse ka dokumendid kandideerimiseks! \nSiin saad end avatud uste päevale registreerida ja märkida ära\, kas vajad transpordiks kohta bussis Põllu õppehoonesse.\nKui soovid ka mõnes töötoas osaleda\, siis sinna on vaja veel eraldi registreerida. \nRegistreerimine ja lisainfo VOCO kodulehelt.
URL:https://www.teeviit.ee/sundmus/36467/
LOCATION:Tartu Rakenduslik Kolledž\, Tartu\, Eesti
CATEGORIES:Avatud uste päev
ATTACH;FMTTYPE=image/jpeg:https://www.teeviit.ee/wp-content/uploads/2024/04/voco.jpg
END:VEVENT
END:VCALENDAR