BEGIN:VCALENDAR
VERSION:2.0
PRODID:-//Teeviit - ECPv6.15.4//NONSGML v1.0//EN
CALSCALE:GREGORIAN
METHOD:PUBLISH
X-WR-CALNAME:Teeviit
X-ORIGINAL-URL:https://www.teeviit.ee
X-WR-CALDESC:Events for Teeviit
REFRESH-INTERVAL;VALUE=DURATION:PT1H
X-Robots-Tag:noindex
X-PUBLISHED-TTL:PT1H
BEGIN:VTIMEZONE
TZID:Europe/Helsinki
BEGIN:DAYLIGHT
TZOFFSETFROM:+0200
TZOFFSETTO:+0300
TZNAME:EEST
DTSTART:20230326T010000
END:DAYLIGHT
BEGIN:STANDARD
TZOFFSETFROM:+0300
TZOFFSETTO:+0200
TZNAME:EET
DTSTART:20231029T010000
END:STANDARD
BEGIN:DAYLIGHT
TZOFFSETFROM:+0200
TZOFFSETTO:+0300
TZNAME:EEST
DTSTART:20240331T010000
END:DAYLIGHT
BEGIN:STANDARD
TZOFFSETFROM:+0300
TZOFFSETTO:+0200
TZNAME:EET
DTSTART:20241027T010000
END:STANDARD
END:VTIMEZONE
BEGIN:VTIMEZONE
TZID:Europe/Tallinn
BEGIN:DAYLIGHT
TZOFFSETFROM:+0200
TZOFFSETTO:+0300
TZNAME:EEST
DTSTART:20230326T010000
END:DAYLIGHT
BEGIN:STANDARD
TZOFFSETFROM:+0300
TZOFFSETTO:+0200
TZNAME:EET
DTSTART:20231029T010000
END:STANDARD
BEGIN:DAYLIGHT
TZOFFSETFROM:+0200
TZOFFSETTO:+0300
TZNAME:EEST
DTSTART:20240331T010000
END:DAYLIGHT
BEGIN:STANDARD
TZOFFSETFROM:+0300
TZOFFSETTO:+0200
TZNAME:EET
DTSTART:20241027T010000
END:STANDARD
END:VTIMEZONE
BEGIN:VEVENT
DTSTART;VALUE=DATE:20231213
DTEND;VALUE=DATE:20240116
DTSTAMP:20260423T210119
CREATED:20240103T145030Z
LAST-MODIFIED:20240103T145048Z
UID:33552-1702425600-1705363199@www.teeviit.ee
SUMMARY:Kandideeri EuroPeers võrgustiku liikmeks
DESCRIPTION:Erasmus+ ja Euroopa Solidaarsuskorpuse Agentuur otsib uusi noori liitumaks EuroPeers võrgustikuga! Kandideeri kui oled vanuses 13-30\, oled osalenud Erasmus+ või Euroopa Solidaarsuskorpuse projektis ja Sul on võimalus panustada võrgustikku! \n\n\n\n\n\n\n\n\n\n\n\n\nKandideeri kui sa oled:  \n\nnoor vanuses 13-30;\nsul on kasvõi ühe Erasmus+ ja/või Euroopa Solidaarsuskorpuse projekti kogemus;\nseiklushimuline\, motiveeritud\, hea tiimimängija\, ajaplaneerija ning algatusvõimeline;\nvalmis osalema võrgustikukohtumistel ja vahekohtumistel veebis;\npanustama võrgustiku tegevustesse aktiivselt 2024. aasta lõpuni;\nvalmis läbi viima iseseisvalt infotegevusi.\n\n\n\n\n\nValituks osutunutele on ette valmistatud: \n\naasta pikkune arenguprogramm. Programmi raames arendatakse noores avaliku esinemise ja oma loo vestmise oskust\, ürituskorralduse ja meeskonnatöö kompetentse*;\nvõimalused osaleda nii eestisisestel kui rahvusvahelistel koolitustel;\ntööriistad\, kuidas Erasmus+ ja Euroopa Solidaarsuskorpuse programmide maailmas toimetada;\nvõrgustikutöös osalemine ning tegevused selle raames on osalejatele kaetud;\nnoortelt oodatakse aktiivset panustamist võrgustikutöösse ning omaalgatuslikke ja agentuuri kutsel infotegevuste läbiviimist.\n\n\n\n\n\nVõrgustikku kandideerimiseks täida ära see vorm ning pane teele hiljemalt 15.01.2024. \nVõrgustikku valitakse ankeedi alusel 15 noort ning otsusest informeeritakse valituid hiljemalt 31.01.2024. \nLoe lisa siit. \n\n\n\n\nLisainfo: Laura Kiviselg\, laura.kiviselg@harno.ee.
URL:https://www.teeviit.ee/sundmus/kandideeri-europeers-vorgustiku-liikmeks/
CATEGORIES:Konkurss
ATTACH;FMTTYPE=image/png:https://www.teeviit.ee/wp-content/uploads/2024/01/microsoftteams-image-39.png
END:VEVENT
BEGIN:VEVENT
DTSTART;VALUE=DATE:20231228
DTEND;VALUE=DATE:20240212
DTSTAMP:20260423T210119
CREATED:20240128T164645Z
LAST-MODIFIED:20240128T164645Z
UID:34417-1703721600-1707695999@www.teeviit.ee
SUMMARY:Videokonkurss „Huviharidus trendide maailmas“
DESCRIPTION:Eesti Huvikoolide Liit kutsub 7-19aastaseid huvikooli õpilasi osalema noorte videokonkursil “Huviharidus trendide maailmas”. Kasuta suurepärast võimalust loominguliselt näidata maailmale\, nii noorele kui vanale\, mida Sina mõtled. \n\n\n\n\nNendele küsimustele otsimegi just noorte endi abiga vastuseid:\n\n\n\n\n\nKas huviharidus saab trendide maailmas hästi hakkama?\nKas huviharidus peaks rohkem käima kaasas uuendustega või hoidma just stabiilset joont?\nKuidas saaks trende kasutada huvihariduse edendamiseks ning milliseid ohte peidavad endas kiired uuendused haridusmaastikul?\nKuidas mõjutab internet ja sotsiaalmeedia huviharidust?\nTrendid vs. traditsioonid?\n\n\n\n\n\n* TREND tähendab mingisugust suunda\, kallakut\, suunitlust või moodi. Seda iseloomustab lühiajalisus\, pidev muutumine ning populaarsus. Erinevaid trende võib kohata moes\, sotsiaalmeedias\, majanduses ja kultuuris. \n\n\n\n\nKuidas osaleda?\n\n\n\n\n1. Loo lühivideo:\nTee video\, milles vastad küsimustele\, kuidas saab hakkama huviharidus pidevalt muutuvas maailmas või mis on selle eelised ja/või puudused. Kasuta või näita videos midagi\, mis sind inspireerib või milles oled kirglik. \n2. Laadi video üles:\nJaga oma videot meiega hiljemalt 11. veebruariks 2024 \n3. Jälgi tulemusi:\nParimad videod valitakse välja rahvahääletuse teel ning võitjad kuulutatakse välja 25. veebruaril 2024. Ootame põnevusega Sinu loomingut! \n\n\n\n\nKonkurssi puudutavate küsimuste või rõõmude korral võta ühendust Noorteaktiivi eestvedaja Janetiga janet@huvikoolideliit.ee. \nRohkem infot ja registreerimine: https://huvikoolideliit.ee/noor-osale-videokonkursil-huviharidus-trendide-maailmas/ 
URL:https://www.teeviit.ee/sundmus/videokonkurss-huviharidus-trendide-maailmas/
CATEGORIES:Konkurss
ATTACH;FMTTYPE=image/webp:https://www.teeviit.ee/wp-content/uploads/2024/01/videokonkurss-huviharidus-trendide-maailmas.webp
END:VEVENT
BEGIN:VEVENT
DTSTART;TZID=Europe/Helsinki:20231228T080000
DTEND;TZID=Europe/Helsinki:20240103T235900
DTSTAMP:20260423T210119
CREATED:20231228T133608Z
LAST-MODIFIED:20231229T084122Z
UID:33399-1703750400-1704326340@www.teeviit.ee
SUMMARY:Kandideeri: projektikirjutamise laager 13-30a noortele
DESCRIPTION:Projektikirjutamise laager on mõeldud 13-30 aastastele noortele\, kes tahavad kirjutada mõnda projekti\, plaanivad esitada projekti Erasmus+ või Euroopa Solidaarsuskorpuse taotlusvooru (kas 20.02.2024 või 07.05.2024) ja vajavad projekti kirjutamiseks professionaalset nõu ja tuge. \n\n\n\n\n\n\n\n\n\n\n\n\nProjektikirjutamise laager annab osalejatele võimaluse: \n\narendada oma ideest kvaliteetse Erasmus+ või Euroopa Solidaarsuskorpuse programmi taotluse\,\nsaada nõu ja tuge agentuuri ekspertidelt\,\nvõtta aeg maha ja keskenduda oma tiimis projekti planeerimisele.\n\n\n\n\n\nLaagris osalevad 2-5 liikmelised tiimid. Kaasa võib võtta ka juhendaja (noorsootöötaja\, õpetaja\, mentori). Kui kõigi grupiliikmete vanus on alla 18\, siis on juhendaja kaasamine kohustuslik. \nOotame\, et kirjeldaksite oma esialgset ideed ja laagris osalemise motivatsiooni kandideerimisvormis. Kandideerimise tähtaeg on 3.01.2024. \n\n\n\n\nUuri ettevalmistuseks lisa taotlusvoorude sisu ja tähtaegade kohta: \n\nErasmus+ noortevahetus (rahvusvaheline)\nErasmus+ osalusprojekt (kohalik või rahvusvaheline)\nEuroopa Solidaarsuskorpuse solidaarsusprojekt (kohalik)\n\n\nLaager toimub 19.-21. jaanuaril Tallinnas. Selleks\, et projektiidee jõuaks piisavalt küpseda\, on vaja kõigil kolmel päeval kohal olla. Laager algab reede pärastlõunal (kogunemine kell 15.30) ja lõpeb pühapäeva lõunal (kell 14.30). \nLaagris on kaks töökeelt: eesti ja vene keel. Vajadusel saab personaalset nõustamist ka inglise keeles. \nLaagris osalemine on tasuta. Tallinnast väljastpoolt tulijatele organiseerime majutuse ja samuti katame transpordikulud. \nTäpsema info laagris osalemise kohta saadame hiljemalt 4.01.2024. \n\n\n\n\n\n\nTäpsem info:\nKarin Öövel (karin.oovel@harno.ee\, +372 55919229) \nErasmus+ ja Euroopa Solidaarsuskorpuse agentuuri noorteprogrammide keskus\nHaridus- ja Noorteamet\nTõnismägi 11\n10119 Tallinn
URL:https://www.teeviit.ee/sundmus/projektikirjutamise-laager-13-30aastastele-noortele/
CATEGORIES:Koolitus
END:VEVENT
END:VCALENDAR