BEGIN:VCALENDAR
VERSION:2.0
PRODID:-//Teeviit - ECPv6.15.4//NONSGML v1.0//EN
CALSCALE:GREGORIAN
METHOD:PUBLISH
X-ORIGINAL-URL:https://www.teeviit.ee
X-WR-CALDESC:Events for Teeviit
REFRESH-INTERVAL;VALUE=DURATION:PT1H
X-Robots-Tag:noindex
X-PUBLISHED-TTL:PT1H
BEGIN:VTIMEZONE
TZID:Europe/Helsinki
BEGIN:DAYLIGHT
TZOFFSETFROM:+0200
TZOFFSETTO:+0300
TZNAME:EEST
DTSTART:20230326T010000
END:DAYLIGHT
BEGIN:STANDARD
TZOFFSETFROM:+0300
TZOFFSETTO:+0200
TZNAME:EET
DTSTART:20231029T010000
END:STANDARD
END:VTIMEZONE
BEGIN:VEVENT
DTSTART;VALUE=DATE:20230925
DTEND;VALUE=DATE:20231021
DTSTAMP:20260424T011933
CREATED:20231009T042717Z
LAST-MODIFIED:20231009T042717Z
UID:30715-1695600000-1697846399@www.teeviit.ee
SUMMARY:Minu eeskuju 2023
DESCRIPTION:Eeskujuliikumine kutsub üles märkama ja tunnustama eeskujusid\, et 11.novembril tunnustada eeskujuliikumine Valge Õhupall tänusündmusel „Märkan eeskuju“ esitatud era- ja juriidilisi isikuid. \nEsita eeskuju hiljemalt 20. oktoobriks 2023\, täites ankeet eeskujuliikumise kodulehel www.valgeohupall.ee või saates vastav ankeet (leitav kodulehelt) e-postiaadressile eeskuju@valgeohupall.ee. \nEeskujuliikumise juhtrühm valib kõikide üleskutse “Minu eeskuju” raames esitatud kandidaatide seast välja 11 era- ja/või juriidilist isikut ning ühe noore kuni 20a eeskuju. \nAasta eeskujuks saab esitada\, organisatsioone\, perekondi ja eraisikuid vanuses alates 21a: \n\nkes on oma tegevusega eeskujuks tervema ja turvalisema elukeskkonna loomisel;\nkelle eestvedamisel on tekkinud uus algatus\, mis suurendab kogukonna- ja turvatunnet;\nkes on oma eeskujuga kaasanud tegutsema teisi inimesi ja organisatsioone\, toetades sellega väärtuspõhiste otsuste tegemist;\nkes on oma eeskujuliku tegevuse ja algatustega positiivselt mõjutanud avalikku arvamust;\nkes on silma paistnud tervema ja turvalisema tuleviku kujundamisega seotud teemade nähtaval hoidmisel ühiskonnas.\n\nAasta nooreks eeskujukus saab esitada eraisikuid vanuses kuni 20a: \n\nkelle teo või töö tulemusel on tekkinud uus algatus\, mis suurendab teiste inimeste heaolu;\nkes on oma eeskujuga kaasanud tegutsema teisi lapsi ja/või täiskasvanuid\, muutes sellega positiivselt teiste inimeste elu.\n\nAllikas ja esitamine: https://valgeohupall.ee/2023/09/25/minu-eeskuju-2023/ \n 
URL:https://www.teeviit.ee/sundmus/minu-eeskuju-2023/
CATEGORIES:Konkurss
ATTACH;FMTTYPE=image/jpeg:https://www.teeviit.ee/wp-content/uploads/2023/10/minu-eeskuju-2023-03.jpg
END:VEVENT
BEGIN:VEVENT
DTSTART;TZID=Europe/Helsinki:20230928T110000
DTEND;TZID=Europe/Helsinki:20230928T121500
DTSTAMP:20260424T011933
CREATED:20230524T105829Z
LAST-MODIFIED:20230911T125841Z
UID:25225-1695898800-1695903300@www.teeviit.ee
SUMMARY:Veebiseminar: üle-eestiline noorsootöö nädal 2023
DESCRIPTION:Neljapäeval\, 28. septembril 2023 kell 11.00-12.30\, toimub noorsootöö nädalat tutvustav veebiseminar.\n\nRegistreeri end veebiseminarile siin.\n\n Veebiseminar on suunatud noortega töötavatele spetsialistidele ja noortele\, kes soovivad saada täpsemat infot 13-19. novembril aset leidva noorsootöö nädala  Minu tulevik on täna  teemal\, mis võtab sel aastal fookusesse keskkonna heaks tegutsemise.\n\nVeebiseminari eesmärk on anda käsitletavast teemast ning peamistest tegevustest ülevaade ning tutvustada erinevaid võimalusi nädalal kaasa tegema. Veebiseminari ajal on osalejatel võimalus küsida esinejatelt küsimusi\, veebiseminar salvestatakse ning on hiljem järele vaadatav.\n\nVeebiseminari teemad:\n Nädala teema ning peamised tegevused\, Elizaveta Cheremisina – Haridus- ja Noorteamet\n Kuidas noored soovivad keskkonnakriiside kohta teadmisi saada ning millest tunnevad noored keskkonnakriisidega silmitsi seistes puudust? – Kertu Birgit Anton\, noorte keskkonnaliikumise Fridays for Future Eesti liige\n Kuidas edendada noorte keskkonnateadlikkust ehk mida teha noorsootöö nädalal? – MTÜ Mondo\n\n Registreerudes veebiseminarile Zoom saadab sulle automaatkirja koos lingiga\, kus kohtumegi 28. septembril.\n\nVeebinari korraldab noorteinfoportaal Teeviit seoses üle-eestilise noorsootöö nädalaga. Noorteinfoportaali Teeviit tegevust koordineerib Haridus- ja Noorteamet.\n2023. aasta noorsootöö nädala teavitustegevusi rahastatakse haridus- ja teadusministri kinnitatud ning Haridus- ja Noorteameti poolt elluviidava Euroopa Sotsiaalfondist kaasrahastatud programmi „Tõrjutusriskis noorte kaasamine ja noorte tööhõivevalmiduse parandamine“ raames.
URL:https://www.teeviit.ee/sundmus/veebiseminar-ule-eestiline-noorsootoo-nadal-2023/
LOCATION:Veebis
CATEGORIES:veebinar
ATTACH;FMTTYPE=image/jpeg:https://www.teeviit.ee/wp-content/uploads/2023/05/374243037_604108111936701_1916938351302333314_n.jpg
END:VEVENT
END:VCALENDAR