BEGIN:VCALENDAR
VERSION:2.0
PRODID:-//Teeviit - ECPv6.15.4//NONSGML v1.0//EN
CALSCALE:GREGORIAN
METHOD:PUBLISH
X-ORIGINAL-URL:https://www.teeviit.ee
X-WR-CALDESC:Events for Teeviit
REFRESH-INTERVAL;VALUE=DURATION:PT1H
X-Robots-Tag:noindex
X-PUBLISHED-TTL:PT1H
BEGIN:VTIMEZONE
TZID:Europe/Helsinki
BEGIN:DAYLIGHT
TZOFFSETFROM:+0200
TZOFFSETTO:+0300
TZNAME:EEST
DTSTART:20230326T010000
END:DAYLIGHT
BEGIN:STANDARD
TZOFFSETFROM:+0300
TZOFFSETTO:+0200
TZNAME:EET
DTSTART:20231029T010000
END:STANDARD
END:VTIMEZONE
BEGIN:VEVENT
DTSTART;TZID=Europe/Helsinki:20230831T140000
DTEND;TZID=Europe/Helsinki:20230831T170000
DTSTAMP:20260424T031020
CREATED:20230830T100919Z
LAST-MODIFIED:20230830T100952Z
UID:29271-1693490400-1693501200@www.teeviit.ee
SUMMARY:TLÜ avaaktus ja hooviMELU
DESCRIPTION:Tallinna Ülikool õppeaasta pidulik ja meeleolukas avamine toimub 31. augustil ülikooli sisehoovis. Päev algab akadeemilise avaaktusega kell 14.00\, kus ülikooliperet tervitab rektor professor 𝐓𝐨̃𝐧𝐮 𝐕𝐢𝐢𝐤..\n\nPärast seda jätkub sisehoovis lõbus melu\, kus seavad end sisse meie üliõpilasorganisatsioonid ning meeleolu kruvib üles ansambel 𝐓𝐫𝐚𝐟𝐟𝐢𝐜.\n\nMuusikaliste tantsu numbritega rõõmustavad meid TLÜ tantsutüdrukud ning süüa pakuvad mitmed toiduautod.\n\nOsalema on oodatud kogu ülikoolipere! Aeg on kohtuda nii uute kui ka juba tuttavate kolleegide ja kursusekaaslastega ning panna end üheskoos valmis uueks õppeaastaks.
URL:https://www.teeviit.ee/sundmus/29271/
CATEGORIES:Festival
ATTACH;FMTTYPE=image/jpeg:https://www.teeviit.ee/wp-content/uploads/2023/08/367470094_670617915096766_9192823830093554038_n.jpg
END:VEVENT
END:VCALENDAR