BEGIN:VCALENDAR
VERSION:2.0
PRODID:-//Teeviit - ECPv6.15.4//NONSGML v1.0//EN
CALSCALE:GREGORIAN
METHOD:PUBLISH
X-ORIGINAL-URL:https://www.teeviit.ee
X-WR-CALDESC:Events for Teeviit
REFRESH-INTERVAL;VALUE=DURATION:PT1H
X-Robots-Tag:noindex
X-PUBLISHED-TTL:PT1H
BEGIN:VTIMEZONE
TZID:Europe/Helsinki
BEGIN:DAYLIGHT
TZOFFSETFROM:+0200
TZOFFSETTO:+0300
TZNAME:EEST
DTSTART:20230326T010000
END:DAYLIGHT
BEGIN:STANDARD
TZOFFSETFROM:+0300
TZOFFSETTO:+0200
TZNAME:EET
DTSTART:20231029T010000
END:STANDARD
END:VTIMEZONE
BEGIN:VEVENT
DTSTART;TZID=Europe/Helsinki:20230713T000000
DTEND;TZID=Europe/Helsinki:20230806T235900
DTSTAMP:20260424T055955
CREATED:20230713T122041Z
LAST-MODIFIED:20230713T122041Z
UID:27400-1689206400-1691366340@www.teeviit.ee
SUMMARY:Kandideerimine noorteinfoportaal Teeviit vabatahtlikuks
DESCRIPTION:Hei noor! Tule noorteinfoportaal Teeviit vabatahtlikuks! \nSind huvitab kirjutamine\, sisuloome või hoopiski sotsiaalmeedia ja kampaaniate korraldamine? Sul on lennukad ideed ja oled aktiivne tegutseja? \nKui jah\, oled oodatud kandideerima noorteinfoportaali Teeviit vabatahtlikuks! \nVabatahtlikuna aitad kaasa üleriigilise noorteinfokanali arendamisse ja toetad Eesti noorte teadlikkust erinevatest valdkondadest nagu vaimne tervis\, meediapädevus\, rahatarkus\, töötamine\, keskkond\, kodanikuaktiivsus\, turvalisus ja mitmed muud noortele olulised teemad. Samuti omandad uusi kogemusi\, oskusi ja saad tuttavaks noortega üle Eesti. Teeviit vabatahtlikuna saad hea täienduse oma CV-le\, kasulikud kontaktid\, praktikakoha või alustad unistuste teekonda karjääriredelil! \nKandideerimine on avatud 13. juuli kuni 06. august 2023. \nTäida sooviavaldus siin: https://www.teeviit.ee/tule-noorteinfoportaal-teeviit-vabatahtlikuks/
URL:https://www.teeviit.ee/sundmus/kandideerimine-noorteinfoportaal-teeviit-vabatahtlikuks/
CATEGORIES:Muu
ORGANIZER;CN="Noorteinfoportaal Teeviit":MAILTO:www.teeviit.ee
END:VEVENT
END:VCALENDAR