BEGIN:VCALENDAR
VERSION:2.0
PRODID:-//Teeviit - ECPv6.15.4//NONSGML v1.0//EN
CALSCALE:GREGORIAN
METHOD:PUBLISH
X-WR-CALNAME:Teeviit
X-ORIGINAL-URL:https://www.teeviit.ee
X-WR-CALDESC:Events for Teeviit
REFRESH-INTERVAL;VALUE=DURATION:PT1H
X-Robots-Tag:noindex
X-PUBLISHED-TTL:PT1H
BEGIN:VTIMEZONE
TZID:Europe/Helsinki
BEGIN:DAYLIGHT
TZOFFSETFROM:+0200
TZOFFSETTO:+0300
TZNAME:EEST
DTSTART:20230326T010000
END:DAYLIGHT
BEGIN:STANDARD
TZOFFSETFROM:+0300
TZOFFSETTO:+0200
TZNAME:EET
DTSTART:20231029T010000
END:STANDARD
END:VTIMEZONE
BEGIN:VEVENT
DTSTART;TZID=Europe/Helsinki:20230503T000000
DTEND;TZID=Europe/Helsinki:20230521T000000
DTSTAMP:20260424T091710
CREATED:20230505T044431Z
LAST-MODIFIED:20230505T044431Z
UID:20747-1683072000-1684627200@www.teeviit.ee
SUMMARY:Kandideeri rahvusvahelisse kommunikatsiooni töörühma
DESCRIPTION:Euroopa noorteinfo ja nõustamise agentuur ERYICA kutsub noori osalema rahvusvahelises kommunikatsiooniteemalises töörühmas. Kandideerimine on avatud kuni 21. mai 2023\, töökeel on inglise keel ja töörühmas on võimalus osaleda 3-5 noorel Euroopast. Kandideerimise eelduseks on\, et tunned huvi kommunikatsiooni ja turunduse teemade vastu\, oled esimest korda EU valimisteks (toimuvad mai 2024) valimisealine. \nTöörühm kutsutakse kokku “Eu inForm” ehk Euroopa Parlamendi valimiste teemalise projekti raames ning töörühma eesmärk on aidata kaasa kommunikatsioonitegevuste planeerimisse ja elluviimisesse. \n Registreeruda saab kuni 21.05.2023 siin (inglise keeles).  \nLoe lisa siit (inglise keeles). \n \nAllikas: https://www.eryica.org/news/euinform-comms-taskforce.
URL:https://www.teeviit.ee/sundmus/kandideeri-rahvusvahelisse-kommunikatsiooni-tooruhma/
CATEGORIES:Konkurss
ATTACH;FMTTYPE=image/png:https://www.teeviit.ee/wp-content/uploads/2023/05/untitleddesign2copia.png
END:VEVENT
BEGIN:VEVENT
DTSTART;TZID=Europe/Helsinki:20230517T100000
DTEND;TZID=Europe/Helsinki:20230518T170000
DTSTAMP:20260424T091710
CREATED:20230413T124814Z
LAST-MODIFIED:20230414T113215Z
UID:19088-1684317600-1684429200@www.teeviit.ee
SUMMARY:Noorum 2023
DESCRIPTION:🙋‍♂️Hea noortevaldkonnas tegutseja\, panustaja\, sõber ja noor! \nBroneeri oma kalendris kuupäevad 17.-18. mai 2023\, et kaasa rääkida VII Noortevaldkonna foorumil “Noorum 2023” ning anda panus noorte ja noortevaldkonna tulevikku! \nNoorum on pika ajalooga suursündmus\, mis on oluline osa valdkonna strateegilisest planeerimisest. Tegemist on kaasarääkimise\, -mõtlemise ning noori mõjutavate teemade nügimise platvormiga.\nTänavu aastal on fookuses muutuste juhtimine ja vaade tulevikku\, mida käsitleme läbi nelja aspekti – muutused keskkonnas\, noortevaldkonnas\, töötajaskonnas ja noortes. \nNoorum 2023 eesmärk on koguda valdkonna töötajatelt\, noortepoliitika kujundajatelt\, uurijatelt ja praktikutelt sisendit\, leidmaks ühist laiapõhjalist arusaama noortevaldkonnaga seotud väljakutsete ja eesmärkide osas. \nÜrituse programmiga saab tutvuda ja üritusele registreeruda aprilli keskel. \nÜritus on tasuta. Soovi korral on tagatud majutus hotellis Radisson Blu Olümpia Hotel.\nÜrituse esimese päeva paneelarutelu\, ekspert-esinejat ja uuringu “Noortevaldkonna töötajaskonna töötingimused: hetkeseis ja väljakutsed” tulemuste tutvustust saab jälgida ka otseülekande vahendusel. \n🍀Noorum on keskkonnasõbralik üritus – pakutav toit on peamiselt taimsetest komponentidest\, trükitud materjale kasutame minimaalselt ja kasutame taaskasutust võimaldavaid lahendusi. 🍀 \nLisainfo:\nnoorum@harno.ee\nwww.harno.ee/noorum  \n  \nTegevusi rahastatakse haridus- ja teadusministri kinnitatud ning Haridus- ja Noorteameti poolt elluviidava Euroopa Sotsiaalfondist kaasrahastatud programmi „Tõrjutusriskis noorte kaasamine ja noorte tööhõivevalmiduse parandamine“ raames.
URL:https://www.teeviit.ee/sundmus/noorum-2023/
LOCATION:TalTech Innovatsioonikeskus Mekotry\, Raja 15\, Tallinn\, Eesti
ATTACH;FMTTYPE=image/jpeg:https://www.teeviit.ee/wp-content/uploads/2023/04/337416790_879809109763091_2220835712297485928_n.jpg
END:VEVENT
BEGIN:VEVENT
DTSTART;TZID=Europe/Helsinki:20230517T140000
DTEND;TZID=Europe/Helsinki:20230517T153000
DTSTAMP:20260424T091710
CREATED:20230502T103828Z
LAST-MODIFIED:20230502T103828Z
UID:20579-1684332000-1684337400@www.teeviit.ee
SUMMARY:Tekstide kirjutamise ABC
DESCRIPTION:Vabaühenduste kommunikatsioonijuhid ja teised\, kes erinevaid tekste kirjutavad\, on oodatud kaheosalisele veebiseminarile Tekstide kirjutamise ABC.\nTekstide kirjutamine on õpitav. Paljude turundus- ja kommunikatsioonitekstide kirjutamiseks on kindlad reeglid. Kui sa neid printsiipe tead\, on sul palju lihtsam tekste kokku panna.\nSeminarid viib läbi Triin Nõu.\nOsalemiseks pane end kirja siin: https://forms.gle/YVrCanr3q5ofBf2C6.\nVeebiseminari lingi saadame registreerunutele meilile.\nOsalemine on tasuta ja samast organisatsioonist võib osaleda mitu inimest.
URL:https://www.teeviit.ee/sundmus/tekstide-kirjutamise-abc/
LOCATION:Veebis
CATEGORIES:Koolitus
ATTACH;FMTTYPE=image/jpeg:https://www.teeviit.ee/wp-content/uploads/2023/05/tekstide-kirjutamine.jpg
END:VEVENT
END:VCALENDAR