BEGIN:VCALENDAR
VERSION:2.0
PRODID:-//Teeviit - ECPv6.15.4//NONSGML v1.0//EN
CALSCALE:GREGORIAN
METHOD:PUBLISH
X-WR-CALNAME:Teeviit
X-ORIGINAL-URL:https://www.teeviit.ee
X-WR-CALDESC:Events for Teeviit
REFRESH-INTERVAL;VALUE=DURATION:PT1H
X-Robots-Tag:noindex
X-PUBLISHED-TTL:PT1H
BEGIN:VTIMEZONE
TZID:UTC
BEGIN:STANDARD
TZOFFSETFROM:+0000
TZOFFSETTO:+0000
TZNAME:UTC
DTSTART:20230101T000000
END:STANDARD
END:VTIMEZONE
BEGIN:VEVENT
DTSTART;TZID=UTC:20230127T000000
DTEND;TZID=UTC:20230325T235900
DTSTAMP:20260424T124925
CREATED:20221206T133256Z
LAST-MODIFIED:20230201T060637Z
UID:394-1674777600-1679788740@www.teeviit.ee
SUMMARY:Üle-eestiline laste ja noorte keraamikakonkurss "Savisellid-10"
DESCRIPTION:Taas kutsub Tallinna Huvikeskus Kullo kõiki kunstihuvilisi lapsi ja noori üle eesti osalema keraamikakonkursil “SAVISELLID”. Selle aasta sündmus on juubeli hõnguliselt kümnes! \nKonkursi plakat\nKonkursi juhend\nOsalejate nimekirja alus \nKonkursile ootame tööd alljärgnevates tehnikates: \n1.Plastika: \n\nEelpõletatud esemed (ümarplastika\, figuurid\, linnud\, loomad\, reljeefid jne.)\nGlasuuritud esemed\n\n 2.Õõnesvormid: \n\nTreitud vormid\nKleepvormid\nGlasuuritud esemed\nMaalitud esemed\n\n 3.Maal: \n\nGlasuuripealne (portselanimaal)\nGlasuurialune (angoobimaal)\nSegatehnikad (klaasisulatus jne.)\n\nKonkursi töid hinnatakse vastavalt vanusegruppidele: \nI           6 – 8 eluaastat\nII          9-10 eluaastat\nIII         11-13 eluaastatIV        14-16 eluaastat\nV         17-18 eluaastat\n \nKonkursi tööd tuleb saata või tuua ajavahemikul 20.03–25.03.2023 (mitte hiljem !)\nKullo Lastegaleriisse\, Kuninga 6 Tallinn 10146\, telefon 6446 873.\nNB! Peale 25. märtsi saabunud tööd ei osale näitusel ega konkursil. \nKullo Lastegalerii on avatud esmaspäevast reedeni kell 10.00 – 18.00.\nSoovitav on tuua tööd kohale või saata kulleriga (kui saadate postiga siis ei tooda neid postimajast kohale). Saajaks märkida Anneli Aguraiuja.\n \nKONKURSI AJAKAVA JA KORRALDUS. \n\nKonkursile laekunud töödest (palume õpetajal teha valik ja  saata ühe õppeasutuse  ühelt õpetajalt mitte rohkem kui 8 taiest) korraldatakse näitus Kullo Lastegaleriis.\nNäitus  3.aprill – 28.aprill 2023\nKonkursi korraldajatele jääb õigus teha laekunud töödest valik\nKonkursi tulemused avalikustatakse näituse avamisel\n\n\n märts 2023 kell 16.00Tallinna Kullo Lastegaleriis\n\n\nKõik osavõtjad koos juhendajatega on palutud konkursi näituse avamisele.\nAutasustatakse iga vanusegrupi  parimaid.\nNäituse lõppedes tuleb taiesed ära viia Kullo Lastegaleriist ajavahemikus\n\n    2.05-9.05.2023 Hiljem töid ei tagastata !\n \nTÖÖD PALUME VARUSTADA kahe nimesildiga\, mõõtudega 40 x 80 mm kirjastiilis Arial\, suurus 18.  Nimesildil: \nTöö nimetus\nTehnika\nOsaleja nimi\nOsaleja vanus\nKool või huviring\nLinn või maakond \nÜks nimesilt palun kleepige töö alla ja teine pange näituse jaoks kaasa (kõigi saadetud tööde sildid ühe ümbrikuga tööde kasti) ! \nNB! KINDLASTI palume saata  osalejate nimekiri (salvestada jutu alguses olev nimekirja alus ja täita\ntabel ja saata tagasi kirja manusena) elektroonselt\, vahemikus 20.03– 25.03.2023 aadressil galerii@kullo.ee. \nLOOMINGULISUST JA EDU SOOVIDES \nAnneli Aguraiuja 6446 873\, 56727796 galerii@kullo.ee\nKairi Kaugema 6646 105\, kairi.kaugema@kullo.ee.\nTallinna Huvikeskus Kullo\nkonkursi koordinaatorid \nInfo allikas: http://kullo.ee/index.php?page=636& 
URL:https://www.teeviit.ee/sundmus/ule-eestiline-laste-ja-noorte-keraamikakonkurss-savisellid-10/
LOCATION:Asukoha nimi\, Tallinn
CATEGORIES:Konkurss
ATTACH;FMTTYPE=image/png:https://www.teeviit.ee/wp-content/uploads/2022/12/savi-730x388-1.png
END:VEVENT
BEGIN:VEVENT
DTSTART;TZID=UTC:20230301T080000
DTEND;TZID=UTC:20230331T170000
DTSTAMP:20260424T124925
CREATED:20230216T051136Z
LAST-MODIFIED:20230216T051136Z
UID:14094-1677657600-1680282000@www.teeviit.ee
SUMMARY:Koomiksikonkurss "Raharöövlid"
DESCRIPTION:Finantsinspektsioon ja noorteinfoportaal Teeviit ootavad kõiki 1. – 12. klassi õpilasi üle Eesti osalema lõbusal rahatarkuse koomiksikonkursil „Raharöövlid“. Iga vanusegrupi võitjaid ootavad auhinnad graafikalaudadest raamatute ja üllatusteni. \n\n\n\n\n\n\nKonkurss on jaotatud kolme vanusegruppi ning parimad tööd valib välja žürii\, kelle hulgas on rahatarkuse eestvedaja ja investor Kristi Saare\, tuntud koomiksikunstnik ja graafiline disainer Veiko Tammjärv\, noorteinfoportaali Teeviit vabatahtlik Grete Kull ja Finantsinspektsiooni kommunikatsioonispetsialist Kaisa Gabral. \nTööde esitamise tähtaeg on 31.märts. Enne tööle asumist loe läbi konkursi tingimused ja teemad: teeviit.ee/koomiksikonkurss/
URL:https://www.teeviit.ee/sundmus/koomiksikonkurss-raharoovlid/
LOCATION:Veebis
ATTACH;FMTTYPE=image/png:https://www.teeviit.ee/wp-content/uploads/2023/02/koomiksikonkurss-1240-×-820-px.png
ORGANIZER;CN="Noorteinfoportaal Teeviit":MAILTO:www.teeviit.ee
END:VEVENT
BEGIN:VEVENT
DTSTART;TZID=UTC:20230302T100000
DTEND;TZID=UTC:20230302T160000
DTSTAMP:20260424T124925
CREATED:20230217T044734Z
LAST-MODIFIED:20230217T044831Z
UID:14135-1677751200-1677772800@www.teeviit.ee
SUMMARY:Sisekaitseakadeemia avatud uste päev
DESCRIPTION:Sisekaitseakadeemia avatud uste päeval saab harjutada suurõnnetuse lahendamist    \nSisekaitseakadeemias toimub 2. märtsil avatud uste päev. Üle kahe aasta saame tulevasi õppureid tervitada oma Tallinna õppekeskuse ruumides ja tutvustada maja\, mis avalikuks külastamiseks on tavapäraselt piiratud. Päeva jooksul saab ülevaate nii õppimisvõimalustest kui ka vaba aja veetmise\, sportimisvõimaluste\, elamis- ja olmetingimuste kohta. Õppurite tegemistest annab ülevaate üliõpilasesindus.  \n„Eriala valimine on kahtlemata oluline samm noore elus ja õige valiku tegemiseks on vaja piisavalt infot. Meie soovime noore jaoks seda otsustamist lihtsamaks teha ning seetõttu kutsumegi külla\, et saaks rahulikult silmast-silma ära küsida kõik meeles mõlkunud küsimused seoses meil õpitavate erialade\, sisseastumise tingimuste või tudengielu kohta. Usun\, et paljud hirmud saavad vajaliku info saamise järel oma lahenduse. Meile on oodatud õppima kõik\, kellel soovi teha tõelise tähendusega tööd\, kelle sisemine tugevus ja nutikus annaks tulevikus kindluse tervele Eestile\,“ selgitab õppeprorektor Ingrid Vetka.  \nAvatud uste päev algab kell 11.00 info jagamisega sisseastumistingimuste\, erinevate kolledžite ja erialade kohta. Päeva jooksul saab aimu näiteks tollitööst ja keelatud esemetest\, heita pilk reaalsesse vanglakambrisse\, tutvuda ja panna ennast proovile politsei näotuvastusel või harjutada virtuaalsimulatsioonis õnnetuse lahendamist. Üliõpilasesinduselt saab uurida kadetielu ja vaba aja veetmise võimaluste kohta. Päeva orienteeruv lõpp on kell 16.00. \n„Avatud uste päeva tasub kasutada\, et piiluda sisse põnevatesse õpperuumidesse\, saada osa õppeprotsessidest ja jalutada ringi majas\, mis avalikuks külastamiseks on muidu piiratud. Planeeri omale terve päev\, et tutvuda kogu akadeemia pakutavaga. Jagame huvilised gruppidesse\, tegevusi ja ringkäike jagub kogu päevaks\,“ lisab Vetka. \nSisekaitseakadeemia valmistab nii kutsehariduse\, rakenduskõrghariduse kui ka magistrihariduse tasemel ette päästjaid ja päästekorraldajaid\, politseinikke ja piirivalvureid\, vanglatöötajaid\, maksu- ja tolliametnikke ning sisejulgeolekuvaldkonna tippspetsialiste. Avalduste vastuvõtt sisseastumiseks algab 27.02.2023. \nLisainfo: www.sisekaitse.ee. \nAllikas: Sisekaitseakadeemia pressiteade \nPilt: Rasmus Kooskora
URL:https://www.teeviit.ee/sundmus/sisekaitseakadeemia-avatud-uste-paev/
LOCATION:Kase 61\, 12012 Tallinn\, Kase 61\, Tallinn\, 12012\, Eesti
ATTACH;FMTTYPE=image/jpeg:https://www.teeviit.ee/wp-content/uploads/2023/02/sisekaitseakadeemia_maristomba.jpg
ORGANIZER;CN="Sisekaitseakadeemia":MAILTO:kristi.kirikal@sisekaitse.ee
END:VEVENT
BEGIN:VEVENT
DTSTART;TZID=UTC:20230302T100000
DTEND;TZID=UTC:20230302T160000
DTSTAMP:20260424T124925
CREATED:20230222T103346Z
LAST-MODIFIED:20230222T103429Z
UID:14322-1677751200-1677772800@www.teeviit.ee
SUMMARY:Tallinna Ülikooli Avatud uste päev 2023
DESCRIPTION:Tallinna Ülikooli linnakus (Narva mnt 29) toimub 02.03.2023 kl 10.00-16.00 Avatud Uste Päev.\n\nSind ootavad ees nii traditsioonilised infotunnid\, karjäärinõustajad\, instituudid\, üliõpilaskonda ja loomekollektiive tutvustav laada-ala ning põneva siseorienteerumisrada\, et saaksid tutvuda õppekavadega\, inimestega ja linnakuga.\nInfotundide esialgne ajakava (toimuvad Narva mnt 29\, ruumis Maximum):10:10-10:45 Balti\, filmi\, meedia ja kunstide instituudi infotund\n10:55-11:30 Loodus- ja terviseteaduste instituudi infotund\n11:40-13:00 Humanitaarteaduste instituudi infotund\n13:10-14:15 Ühiskonnateaduste instituudi infotund\n14:25-15:05 Haridusteaduste instituudi infotund\n15:15-15:35 Digitehnoloogiate instituudi infotund\nTööpäeva lõpus toimub ka virtuaalselt Haapsalu Kolledži infotund.\n\nHoia meie Avatud Uste Päeva maandumislehel https://www.tlu.ee/avatud-uste-paev-2023 silm peal – sinna tuleb peagi uut infot ajakava ning osalejate kohta.\n\nTegevust jagub terveks päevaks.
URL:https://www.teeviit.ee/sundmus/tallinna-ulikooli-avatud-uste-paev-2023/
LOCATION:Tallinna Ülikool
ATTACH;FMTTYPE=image/jpeg:https://www.teeviit.ee/wp-content/uploads/2023/02/tlu.jpg
END:VEVENT
BEGIN:VEVENT
DTSTART;TZID=UTC:20230302T100000
DTEND;TZID=UTC:20230302T190000
DTSTAMP:20260424T124925
CREATED:20230222T102714Z
LAST-MODIFIED:20230222T102714Z
UID:14313-1677751200-1677783600@www.teeviit.ee
SUMMARY:Eesti Kunstiakadeemia avatud uksed 2023
DESCRIPTION:EKA KUTSUB! \nKui tähekombinatsioon E\, K ja A paneb sind pead pöörama ja kõrvu kikitama\, siis võta kätte punane pliiats ja tõmba kalendrisse 2. märtsi ümber üks rasvane ring ⭕️\, sest just siis teeme me lahti Kunstiakadeemia uksed ja aknad ning kutsume sisse kõik huvilised!\n𝐑𝐄𝐆𝐈𝐒𝐓𝐑𝐄𝐄𝐑𝐔 𝐒𝐈𝐈𝐍: https://forms.gle/2MyTPbUWdNo86Ncn8 \n👉 Avatud uste päeval on võimalik tutvuda EKA erialadega\, kohtuda tudengite ja õppejõududega\, vaadata ringi EKA auhinnatud hoones ning saada väärtuslikku infot ettevalmistuskursuste\, sisseastumise\, õppimise ja tudengielu kohta.\n👉 Toimuvad teaduskondade ja erialade tutvustused\, töötoad\, välkloengud\, majatuurid\, portfoolio konsultatsioonid jpm. Terve päeva vältel on avatud infopunkt\, mõnus olelemisala\, tudengikohvik ning väljapanekud majas sees ja majast väljas.\nTule kohtu oma tulevikuga – olgu selleks arhitektuur\, disain\, kunst või teadus! \n𝐏𝐑𝐎𝐆𝐑𝐀𝐌𝐌\n– 10.00 EKA rektor Mart Kalmu tervitus (ruum A101)\n– 10.20–10.45 Disainiteaduskonna dekaani tervitus ja teaduskonna tutvustus (ruum A101)\n– 10.45–11.00 Vabade kunstide teaduskonna dekaani tervitus ja teaduskonna tutvustus (ruum A101)\n– 11:15\, 13:15 ja 15:15 majatuurid (eelregistreerimisega)\n– 15.00–16.00 EKA Muuseumi kunstituur (eelregistreerimisega)\n𝐄𝐊𝐀 𝐞𝐞𝐥𝐚𝐤𝐚𝐝𝐞𝐞𝐦𝐢𝐚\n– 12.30–13.15 “Nullist sajani! Kuidas end täiendada enne sisseastumiseksameid?” (ruum A205)\n– 13.30–15.00 15-minuti sisseastumiskonsultatsioonid: “Come as you are”. Soovi korral võib kaasa võtta näiteid oma töödest (nt link kaustale veebis)\, et saada tagasisidet. Eelregistreerimisega või vabade aegade olemasolul jooksvalt (ruum A205\, eraldi registreerimine siin: https://bit.ly/ComeAsYouAre-15min) \n𝐀𝐑𝐇𝐈𝐓𝐄𝐊𝐓𝐔𝐔𝐑\n𝐀𝐫𝐡𝐢𝐭𝐞𝐤𝐭𝐮𝐮𝐫 𝐣𝐚 𝐥𝐢𝐧𝐧𝐚𝐩𝐥𝐚𝐧𝐞𝐞𝐫𝐢𝐦𝐢𝐧𝐞\n– 11.00–12.00 Sissejuhatus EKA arhitektuuriõppesse (ruum A400)\n– 12.00–12.30 Arhitekti argipäev: KUU (ruum A400)\n– 12.30–13.00 „Eriti aus pooltund”. Arhitektuuritudengid räägivad oma elust (ruum A400)\n– 13.00–13.30 “Arhitektuur toidab”\, 2. kursuse arhitektuuritudengid (ruum C401)\n– 13.30–15.00 Proovikatsed. 1. kursuse arhitektuuritudengid teevad proovieksami ja annavad sisseastumisnõu (eelregistreerimisega\, ruum C401)\n– 15.00–16.00 Erialastuudio vaatlemine: SLENDERhood superstuudio (ruum täpsustamisel)\n𝐒𝐢𝐬𝐞𝐚𝐫𝐡𝐢𝐭𝐞𝐤𝐭𝐮𝐮𝐫\n– 12.00-12.30 Sisearhitektuuri BA ja MA õppekavade tutvustus (ruum C401)\n– 12.30-13.00 “Ruumist erinevas skaalas”. Sisearhitekt Ville Lausmäe (ruum C401)\n– 13.00-13.30 “Sisearhitekti portfoolio” tudengite esitlus (ruum C401)\n– 13.30-14.00 Q&A: sisearhitektuuritudengite vestlusring (ruum C401)\n– 14.00-16.00 Tooli töötuba “Keharaskus” (puidutöökojas B104) (max 12 osalejat\, eelregistreerimisega!)\n– 16.00-17.00 Loeng “Ruumist ja ruumitajust”. Gregor Taul (ruum C401) \n𝐃𝐈𝐒𝐀𝐈𝐍\n– 10.20–10.45 Disainiteaduskonna dekaani tervitus ja teaduskonna tutvustus (ruum A101)\n𝐊𝐥𝐚𝐚𝐬\, 𝐤𝐞𝐫𝐚𝐚𝐦𝐢𝐤𝐚\, 𝐞𝐡𝐞 𝐣𝐚 𝐬𝐞𝐩𝐢𝐬\n– 13.30–14.30 Keraamika eriala tutvustus (ruum B602)\n– 14.30–15.30 Klaasi eriala tutvustus (ruum B604)\n– 15.30 – 16.30 Ehe ja sepis eriala tutvustus. Nils Hint (ruum B504)\n𝐓𝐨̈𝐨̈𝐬𝐭𝐮𝐬- 𝐣𝐚 𝐝𝐢𝐠𝐢𝐭𝐨𝐨𝐭𝐞𝐝𝐢𝐬𝐚𝐢𝐧\n– 11.00–11.45 Tööstus- ja digitootedisaini BA õppekava infotund (ruum C301)\n– 12.30–14.00 Tööstusdisaini töötuba (eelregistreerimisega)\n– 15.30 – 17.00 Digitootedisaini töötuba (eelregistreerimisega)\n𝐆𝐫𝐚𝐚𝐟𝐢𝐥𝐢𝐧𝐞 𝐝𝐢𝐬𝐚𝐢𝐧\n– 11.30–12.30 Graafilise disaini eriala infotund (ruum C304)\n– 12:00–12:30 Graafilise disaini tudengid esitlevad oma töid (ruum C304)\n𝐌𝐨𝐨𝐝\, 𝐭𝐞𝐤𝐬𝐭𝐢𝐢𝐥\, 𝐚𝐤𝐬𝐞𝐬𝐬𝐮𝐚𝐚𝐫\n– 12.00–12.40 Moe-\, tekstiili- ja aksessuaaridisaini BA õppekava tutvustus (ruum B305)\n– 13.00–14.30 Aksessuaaridisaini töötuba: vihikköide (ruum B511) (eelregistreerimisega)\n– 14.45–15.45 Tekstiilidisaini töötuba: siiditrükk (ruum D502) (eelregistreerimisega!)\n– 17.15–18.15 Moedisaini töötuba: moejoonistus (ruum D507) (eelregistreerimisega) \n𝐃𝐢𝐬𝐚𝐢𝐧 𝐣𝐚 𝐢𝐧𝐧𝐨𝐯𝐚𝐭𝐬𝐢𝐨𝐨𝐧 𝐬𝐞𝐬𝐬𝐢𝐨𝐨𝐧𝐨̃𝐩𝐩𝐞𝐤𝐚𝐯𝐚 (𝐞𝐫𝐢𝐚𝐥𝐚𝐝: 𝐦𝐨𝐞𝐝𝐢𝐬𝐚𝐢𝐧𝐢 𝐤𝐨𝐫𝐫𝐚𝐥𝐝𝐮𝐬\, 𝐫𝐮𝐮𝐦𝐢𝐤𝐮𝐣𝐮𝐧𝐝𝐮𝐬\, 𝐯𝐢𝐬𝐮𝐚𝐚𝐥𝐧𝐞 𝐤𝐨𝐦𝐦𝐮𝐧𝐢𝐤𝐚𝐭𝐬𝐢𝐨𝐨𝐧 𝐣𝐚 𝐭𝐨𝐨𝐭𝐞- 𝐣𝐚 𝐤𝐞𝐬𝐤𝐤𝐨𝐧𝐧𝐚𝐝𝐢𝐬𝐚𝐢𝐧)\n– 17.00–18.00 Disain ja innovatsioon sessioonõppekava tutvustus: Toote- ja keskkonnadisain\, Visuaalne kommunikatsioon\, Ruumikujundus\, Moedisaini korraldus. Raido Laasi\, Marion Laev\, Maarja Valk-Falk\, Ionel Lehari (ruum A302)\n– 18.00–19.00 Ruumikujunduse jutud. Vestlusringi formaadis arutlevad kaks sisearhitektuuri spetsialisti Maarja Valk-Falk ja Elina Steinpilm sisseastujaid puudutavate teemade üle ja vastavad kuulajate küsimustele (ruum A502) \n𝐌𝐚𝐠𝐢𝐬𝐭𝐫𝐢𝐨̃𝐩𝐩𝐞𝐤𝐚𝐯𝐚𝐝\n– 17.30-18.30 Disainiteaduskonna magistrikavade tutvustus (ruum D306). Dekaan annab üldise ülevaate\, millele järgneb programmide Q&A ja tutvustavad tegevused/esitlused:\n— 𝐒𝐨𝐭𝐬𝐢𝐚𝐚𝐥𝐧𝐞 𝐝𝐢𝐬𝐚𝐢𝐧\n— 𝐓𝐚𝐢𝐝𝐞𝐬𝐭𝐮𝐮𝐝𝐢𝐮𝐦/𝐂𝐫𝐚𝐟𝐭 𝐒𝐭𝐮𝐝𝐢𝐞𝐬\n— 𝐑𝐢𝐧𝐠𝐝𝐢𝐬𝐚𝐢𝐧 \n𝐊𝐔𝐍𝐒𝐓𝐈𝐊𝐔𝐋𝐓𝐔𝐔𝐑\n𝐊𝐮𝐧𝐬𝐭𝐢𝐭𝐞𝐚𝐝𝐮𝐬 𝐣𝐚 𝐯𝐢𝐬𝐮𝐚𝐚𝐥𝐤𝐮𝐥𝐭𝐮𝐮𝐫𝐢 𝐮𝐮𝐫𝐢𝐧𝐠𝐮𝐝\n– 12.00–12.30 Kunstiteaduse ja visuaalkultuuri instituudi üldine ning BA ja MA õppekava tutvustus (ruum A302)\n– 12.30–13.00 Kunstiteaduse ja visuaalkultuuri uuringute vilistlaste ja tudengite kogemused kunstiteaduse õpingute ja tööga (ruum A302)\n𝐌𝐮𝐢𝐧𝐬𝐮𝐬𝐤𝐚𝐢𝐭𝐬𝐞 𝐣𝐚 𝐤𝐨𝐧𝐬𝐞𝐫𝐯𝐞𝐞𝐫𝐢𝐦𝐢𝐧𝐞\n– 13.00–14.00 Muinsuskaitse ja konserveerimise BA õppekava tutvustus (ruum D308)\n– 14.00-16.00 Muinsuskaitse ja konserveerimise osakonna tudengid tutvustavad oma töid ja projekte (ruum D308)\n𝐊𝐮𝐧𝐬𝐭𝐢𝐨̃𝐩𝐞𝐭𝐚𝐣𝐚 𝐌𝐀 (𝐚𝐢𝐧𝐮𝐥𝐭 𝐦𝐚𝐠𝐢𝐬𝐭𝐫𝐢𝐨̃𝐩𝐞)\n– 13.30–16.45 Kunstiõpetaja magistriõppekava avatud loeng “Loominguline koostööprojekt”. Anneli Porri (ruum D413)\n– 17.00–17.45 Kunstiõpetaja MA õpekava tutvustus (ruum D413 ja Zoom) \n𝐕𝐀𝐁𝐀𝐃 𝐊𝐔𝐍𝐒𝐓𝐈𝐃\n– 10.45–11.00 Vabade kunstide teaduskonna dekaani tervitus ja teaduskonna tutvustus. Kirke Kangro (ruum A101)\n– 13.00–14.00 Portfolio cafe ehk portfoolio konsultatsioonid vabadesse kunstidesse sisseastujatele (ruum täpsustamisel\, eelregistreerimisega)\n– Terve päeva “Kasulik kunst?!” gümnasistide kunstikonkursi infolaud (fuajees)\nÕ𝐩𝐩𝐞𝐤𝐚𝐯𝐚 𝐊𝐔𝐍𝐒𝐓 (𝐆𝐫𝐚𝐚𝐟𝐢𝐤𝐚\, 𝐌𝐚𝐚𝐥\, 𝐈𝐧𝐬𝐭𝐚𝐥𝐥𝐚𝐭𝐬𝐢𝐨𝐨𝐧 𝐣𝐚 𝐬𝐤𝐮𝐥𝐩𝐭𝐮𝐮𝐫)\n– 11.00–11.15 Õppekava KUNST üldine tutvustus (ruum A101)\n– 11.30–12.00 Graafika eriala tutvustus (ruum B409)\n– 12.00–12.30 Installatsioon ja skulptuur eriala tutvustus (ruum B206)\n– 12.30–13.00 Maal eriala tutvustus (ruum C201)\n𝐅𝐨𝐭𝐨𝐠𝐫𝐚𝐚𝐟𝐢𝐚\n– 14.00–15.315 Fotograafia eriala infotund ja Marge Monko pildianalüüsi töötuba (ruum B404)\n𝐀𝐧𝐢𝐦𝐚𝐭𝐬𝐢𝐨𝐨𝐧\n– 14.30–15.00 Animatsiooni eriala infotund (ruum täpsustamisel)\n𝐒𝐭𝐬𝐞𝐧𝐨𝐠𝐫𝐚𝐚𝐟𝐢𝐚\n– 15.00–15.30 Stsenograafia eriala infotund (ruum B304) \n  \n𝐍Ä𝐈𝐓𝐔𝐒𝐄𝐃 𝐉𝐀 𝐕Ä𝐋𝐉𝐀𝐏𝐀𝐍𝐄𝐊𝐔𝐃\n20.02.-16.03. Erialade näitus “EKA avatud aknad”. EKA raamatukogu akendel Põhja pst 7/Kotzebue 1.\nEKA skulptuuri ja installatsiooni osakonna korraldatav Noore Skulptori Preemianäitus 2023. ARS projektiruumis\, Pärnu mnt 154.\nEKA tudengite grupinäitus “KONTAKT-JOON” Stockmanni 5. korruse galeriis. \n𝐑𝐄𝐆𝐈𝐒𝐓𝐑𝐄𝐄𝐑𝐔 𝐒𝐈𝐈𝐍: https://forms.gle/2MyTPbUWdNo86Ncn8 \nNB! 20. veebruarist avaneb EKA maja akendel ka juba traditsiooniks saanud erialade näitus! Tule vaatama! \nKohtumiseni EKAs!\nhttps://www.artun.ee/avatuduksed/
URL:https://www.teeviit.ee/sundmus/eesti-kunstiakadeemia-avatud-uksed-2023/
LOCATION:Eesti Kunstiakadeemia\, Põhja puiestee 7\, Tallinn\, 10412\, Eesti
ATTACH;FMTTYPE=image/jpeg:https://www.teeviit.ee/wp-content/uploads/2023/02/eka.jpg
END:VEVENT
BEGIN:VEVENT
DTSTART;TZID=UTC:20230302T110000
DTEND;TZID=UTC:20230302T170000
DTSTAMP:20260424T124925
CREATED:20230227T093533Z
LAST-MODIFIED:20230227T093533Z
UID:14653-1677754800-1677776400@www.teeviit.ee
SUMMARY:Tartu Ülikooli Viljandi kultuuriakadeemia lahtiste uste päev vol. 1
DESCRIPTION:Tartu Ülikooli Viljandi kultuuriakadeemia lahtiste uste päev vol. 1 toimub 2. märtsil 2023 VEEBIS!\nKell 11 saavad Zoomis alguse õppekavade ja erialade infotunnid\, kus tehakse õppekavadest põhjalik ülevaade ja ühtlasi saab ära küsida kõik küsimused\, mis on sisseastumisega seoses tekkinud. \nAJAKAVA\n11.00–11.45 kultuurikorralduse õppekava infotund\n12.00–12.45 pärandtehnoloogia õppekava metallitöö eriala infotund\n12.00–12.45 kultuuripärandi loovrakendused MA infotund\n13.00–13.45 pärandtehnoloogia õppekava ringtehnoloogia eriala infotund\n14.00–14.45 pärandtehnoloogia õppekava ehituse eriala infotund\n14.00–14.45 muusika õppekava infotund\n15.00–15.45 kogukonnahariduse ja huvitegevuse õppekava infotund\n15.00–15.45 kunstide ja tehnoloogia õpetaja MA infotund\n16.00–16.45 etenduskunstide õppekava infotund\nRohkem infot ja veebikohtumistega liitumine: www.viljandi.ut.ee/lahtised-uksed. \n– – –\nPS! Kultuuriakadeemiasse kohapeale ootame huvilisi 26. aprillil 2023\, kui toimub lahtiste uste päev vol. 2. Sündmusega paralleelselt toimuvad ka mitmed tulevasele sisseastujale suunatud eelõppe kursused: tantsukunsti kõrghariduse eelõppe kursus\, noore meistri kool\, Tantsunädal.
URL:https://www.teeviit.ee/sundmus/tartu-ulikooli-viljandi-kultuuriakadeemia-lahtiste-uste-paev-vol-1/
LOCATION:Veebis
ATTACH;FMTTYPE=image/jpeg:https://www.teeviit.ee/wp-content/uploads/2023/02/tuvk.jpg
END:VEVENT
BEGIN:VEVENT
DTSTART;TZID=UTC:20230302T130000
DTEND;TZID=UTC:20230302T163000
DTSTAMP:20260424T124925
CREATED:20230223T071221Z
LAST-MODIFIED:20230223T071221Z
UID:14409-1677762000-1677774600@www.teeviit.ee
SUMMARY:Teabepäev naiste võimalustest Kaitseväes
DESCRIPTION:Teavituskampaania Naised Vormi kutsub noori naisi ajateenistuse infopäevale \n  \n2. märtsil toimuvad teabepäevale tutvustatakse ajateenistusse astumise võimalust noortele naistele. Teabepäevast saab osa Tallinnas\, Apollo Ülemiste kinosaalis või YouTube ülekande vahendusel. Päeva juhib ja noori innustab küsima tuntud mõjuisik Roosabanaanike alias Arija Helmvee. \n  \nAjateenistus ei ole Eesti naistele kohustuslik\, küll aga on kõik naised vanuses 18-27 eluaastat ajateenistusse väga oodatud. Ajateenistus võib olla põnev ja kasulik kõrvalepõige\, aga ka sillutada tee karjäärile kaitsevaldkonnas.  \n  \nOotame kõiki vähemalt 15aastasei noori naisi 2.märsil kl 13:00-16:15 toimuvale teabepäevale\, kus saab: \n👉 informatsiooni kaitseväekohustuse võtmise ja sellega kaasneva kohta; \n👉 kuulata kogemuslugusid nii ajateenistuses olevatelt kui ka Kaitseväes teenivatelt naistelt; \n👉 rohkem teada ajateenistuse olemusest ja edasistest karjäärivõimalustest Kaitseväes. \n  \nLisaks tutvustatakse kohapeal ka sõduri varustust.  \nPäeva juhib Arija Helmvee alias Roosabanaanike. \n  \nORIENTEERUV AJAKAVA:  \n13.00–13.30 Kaitseväekohustuse võtmine ja ajateenistusse asumine \n13.30–14.00 Ajateenistuse väljaõppe tutvustus \n14.00–14.30 Ajateenija kogemuslugu \n14:30–14:45 Paus \n14.45–15:15 Tegevteenija kogemuslugu \n15:15–15:45 Karjäärivõimalused peale ajateenistust \n15.45–16.15 Ajateenija varustuse tuvustus  \n16.15 Päeva kokkuvõte  \n  \nInfopäev toimub Apollo Ülemiste kinos saalis 4. Sissepääs saali on kino teiselt korruselt. Külastajaid ootavad kinonäksid. Sündmus on kõigile tasuta. \n✏️Registreeri end üritusele https://forms.gle/zfnhypVPQFcdsvkc7  ning jälgi Facebooki sündmuse all toimuvat infovoogu siin https://fb.me/e/2qE5Zs48m  \nKui soovid registreerida suurema grupi (klassi\, noortekeskuse huvilised)\, saada julgesti nimekiri korraga siim.saavik@kra.ee  \n  \nHuvilised saavad sündmust jälgida ka Youtube’i otseülekandes\, link lisatakse Facebooki sündmuse alla vahetult enne sündmust.  \nTeavituskampaaniat korralda Kaitseressursside Amet. \nRohkem infot:  \n👉 https://naisedvormi.ee/    \n👉 Siim Saavik\, Kaitseressursside Amet  \n siim.saavik@kra.ee  
URL:https://www.teeviit.ee/sundmus/teabepaev-naiste-voimalustest-kaitsevaes/
LOCATION:Apollo Kino Ülemiste\, Suur-Sõjamäe 4\, Tallinn\, Eesti
ATTACH;FMTTYPE=image/jpeg:https://www.teeviit.ee/wp-content/uploads/2023/02/1280x628_txt.jpg
END:VEVENT
END:VCALENDAR