BEGIN:VCALENDAR
VERSION:2.0
PRODID:-//Teeviit - ECPv6.15.4//NONSGML v1.0//EN
CALSCALE:GREGORIAN
METHOD:PUBLISH
X-ORIGINAL-URL:https://www.teeviit.ee
X-WR-CALDESC:Events for Teeviit
REFRESH-INTERVAL;VALUE=DURATION:PT1H
X-Robots-Tag:noindex
X-PUBLISHED-TTL:PT1H
BEGIN:VTIMEZONE
TZID:UTC
BEGIN:STANDARD
TZOFFSETFROM:+0000
TZOFFSETTO:+0000
TZNAME:UTC
DTSTART:20230101T000000
END:STANDARD
END:VTIMEZONE
BEGIN:VEVENT
DTSTART;TZID=UTC:20230127T000000
DTEND;TZID=UTC:20230325T235900
DTSTAMP:20260424T124921
CREATED:20221206T133256Z
LAST-MODIFIED:20230201T060637Z
UID:394-1674777600-1679788740@www.teeviit.ee
SUMMARY:Üle-eestiline laste ja noorte keraamikakonkurss "Savisellid-10"
DESCRIPTION:Taas kutsub Tallinna Huvikeskus Kullo kõiki kunstihuvilisi lapsi ja noori üle eesti osalema keraamikakonkursil “SAVISELLID”. Selle aasta sündmus on juubeli hõnguliselt kümnes! \nKonkursi plakat\nKonkursi juhend\nOsalejate nimekirja alus \nKonkursile ootame tööd alljärgnevates tehnikates: \n1.Plastika: \n\nEelpõletatud esemed (ümarplastika\, figuurid\, linnud\, loomad\, reljeefid jne.)\nGlasuuritud esemed\n\n 2.Õõnesvormid: \n\nTreitud vormid\nKleepvormid\nGlasuuritud esemed\nMaalitud esemed\n\n 3.Maal: \n\nGlasuuripealne (portselanimaal)\nGlasuurialune (angoobimaal)\nSegatehnikad (klaasisulatus jne.)\n\nKonkursi töid hinnatakse vastavalt vanusegruppidele: \nI           6 – 8 eluaastat\nII          9-10 eluaastat\nIII         11-13 eluaastatIV        14-16 eluaastat\nV         17-18 eluaastat\n \nKonkursi tööd tuleb saata või tuua ajavahemikul 20.03–25.03.2023 (mitte hiljem !)\nKullo Lastegaleriisse\, Kuninga 6 Tallinn 10146\, telefon 6446 873.\nNB! Peale 25. märtsi saabunud tööd ei osale näitusel ega konkursil. \nKullo Lastegalerii on avatud esmaspäevast reedeni kell 10.00 – 18.00.\nSoovitav on tuua tööd kohale või saata kulleriga (kui saadate postiga siis ei tooda neid postimajast kohale). Saajaks märkida Anneli Aguraiuja.\n \nKONKURSI AJAKAVA JA KORRALDUS. \n\nKonkursile laekunud töödest (palume õpetajal teha valik ja  saata ühe õppeasutuse  ühelt õpetajalt mitte rohkem kui 8 taiest) korraldatakse näitus Kullo Lastegaleriis.\nNäitus  3.aprill – 28.aprill 2023\nKonkursi korraldajatele jääb õigus teha laekunud töödest valik\nKonkursi tulemused avalikustatakse näituse avamisel\n\n\n märts 2023 kell 16.00Tallinna Kullo Lastegaleriis\n\n\nKõik osavõtjad koos juhendajatega on palutud konkursi näituse avamisele.\nAutasustatakse iga vanusegrupi  parimaid.\nNäituse lõppedes tuleb taiesed ära viia Kullo Lastegaleriist ajavahemikus\n\n    2.05-9.05.2023 Hiljem töid ei tagastata !\n \nTÖÖD PALUME VARUSTADA kahe nimesildiga\, mõõtudega 40 x 80 mm kirjastiilis Arial\, suurus 18.  Nimesildil: \nTöö nimetus\nTehnika\nOsaleja nimi\nOsaleja vanus\nKool või huviring\nLinn või maakond \nÜks nimesilt palun kleepige töö alla ja teine pange näituse jaoks kaasa (kõigi saadetud tööde sildid ühe ümbrikuga tööde kasti) ! \nNB! KINDLASTI palume saata  osalejate nimekiri (salvestada jutu alguses olev nimekirja alus ja täita\ntabel ja saata tagasi kirja manusena) elektroonselt\, vahemikus 20.03– 25.03.2023 aadressil galerii@kullo.ee. \nLOOMINGULISUST JA EDU SOOVIDES \nAnneli Aguraiuja 6446 873\, 56727796 galerii@kullo.ee\nKairi Kaugema 6646 105\, kairi.kaugema@kullo.ee.\nTallinna Huvikeskus Kullo\nkonkursi koordinaatorid \nInfo allikas: http://kullo.ee/index.php?page=636& 
URL:https://www.teeviit.ee/sundmus/ule-eestiline-laste-ja-noorte-keraamikakonkurss-savisellid-10/
LOCATION:Asukoha nimi\, Tallinn
CATEGORIES:Konkurss
ATTACH;FMTTYPE=image/png:https://www.teeviit.ee/wp-content/uploads/2022/12/savi-730x388-1.png
END:VEVENT
BEGIN:VEVENT
DTSTART;TZID=UTC:20230301T080000
DTEND;TZID=UTC:20230331T170000
DTSTAMP:20260424T124921
CREATED:20230216T051136Z
LAST-MODIFIED:20230216T051136Z
UID:14094-1677657600-1680282000@www.teeviit.ee
SUMMARY:Koomiksikonkurss "Raharöövlid"
DESCRIPTION:Finantsinspektsioon ja noorteinfoportaal Teeviit ootavad kõiki 1. – 12. klassi õpilasi üle Eesti osalema lõbusal rahatarkuse koomiksikonkursil „Raharöövlid“. Iga vanusegrupi võitjaid ootavad auhinnad graafikalaudadest raamatute ja üllatusteni. \n\n\n\n\n\n\nKonkurss on jaotatud kolme vanusegruppi ning parimad tööd valib välja žürii\, kelle hulgas on rahatarkuse eestvedaja ja investor Kristi Saare\, tuntud koomiksikunstnik ja graafiline disainer Veiko Tammjärv\, noorteinfoportaali Teeviit vabatahtlik Grete Kull ja Finantsinspektsiooni kommunikatsioonispetsialist Kaisa Gabral. \nTööde esitamise tähtaeg on 31.märts. Enne tööle asumist loe läbi konkursi tingimused ja teemad: teeviit.ee/koomiksikonkurss/
URL:https://www.teeviit.ee/sundmus/koomiksikonkurss-raharoovlid/
LOCATION:Veebis
ATTACH;FMTTYPE=image/png:https://www.teeviit.ee/wp-content/uploads/2023/02/koomiksikonkurss-1240-×-820-px.png
ORGANIZER;CN="Noorteinfoportaal Teeviit":MAILTO:www.teeviit.ee
END:VEVENT
BEGIN:VEVENT
DTSTART;TZID=UTC:20230301T100000
DTEND;TZID=UTC:20230301T120000
DTSTAMP:20260424T124921
CREATED:20230228T112429Z
LAST-MODIFIED:20230228T112429Z
UID:14706-1677664800-1677672000@www.teeviit.ee
SUMMARY:Finantsinspektsiooni ja Eesti Panga rahatarkuse seminar
DESCRIPTION:Finantsinspektsioon ja Eesti Pank kutsuvad õpetajaid\, lapsevanemaid ja rahatarkuse huvilisi noori 1. märtsil kell 10–12 seminarile\, kus räägitakse Eesti Panga tegevusest ja hinnatõusust ning krüptoäridega seotud riskidest. Lisaks tutvustatakse noortele suunatud rahatarkuse veebikonverentsi\, koomiksionkurssi “Raharöövlid” ja e-loenguid. Seminari kuulamiseks on vaja eelnevalt registreerida. \nSeminari avab Eesti Panga president Madis Müller\, kes räägib\, millega tegeleb Eesti Pank\, kuhu tüürib inflatsioon ja mida Eesti Pank selle ohjamiseks teeb. Kuna aastavahetusel sai euroala uue liikme Horvaatia\, räägib Eesti Panga välissuhete spetsialist Sirje Rank euroala laienemisest ja euroala liikmelisuse eelistest. Finantsinspektsiooni Innovatsioonikeskuse juht Mari-Liis Kukk teeb ülevaate innovaatilistest investeeringutest. Juttu tuleb riskidest\, mida krüptosse investeerides võiks teada. Eesti Pangaliidu finantshariduse toimkonna juht Mari-Liis Jääger räägib 23. märtsil toimuvast 7.–12. klassidele mõeldud rahatarkuse veebikonverentsist „Kas mina juhin raha või juhib raha mind?” ning teistest rahatarkuse kuul toimuvatest sündmustest. Lisaks tutvustab Finantsinspektsiooni kommunikatsioonijuht Eva Vahur uusi rahatarkuse töölehti ja e-loenguid ning rahatarkuse koomiksikonkurssi “Raharöövlid”. \nSeminari saab kuulata Eesti Panga muuseumis kohapeal (Estonia pst 11\, Tallinn) või üle veebi. Veebi kaudu osalejad saavad enne seminari e-kirjaga lingi. \nLisainfo ja ajakava siin. \n 
URL:https://www.teeviit.ee/sundmus/finantsinspektsiooni-ja-eesti-panga-rahatarkuse-seminar/
CATEGORIES:Loeng
END:VEVENT
BEGIN:VEVENT
DTSTART;TZID=UTC:20230301T100000
DTEND;TZID=UTC:20230301T150000
DTSTAMP:20260424T124921
CREATED:20230222T095121Z
LAST-MODIFIED:20230222T101619Z
UID:14268-1677664800-1677682800@www.teeviit.ee
SUMMARY:Tartu Tervishoiu Kõrgkooli Avatud uste päev 2023
DESCRIPTION:⚡️ Tartu Tervishoiu Kõrgkooli avatud uste päev toimub juba 1. märtsil! \nTerve päeva vältel on Sul võimalik tutvuda kõrgkoolis õpitavate erialadega\, tutvuda meie õpikeskkonnaga ning suhelda meie tudengitega! \n🔘 Kell 10.00-12.00 toimub konverentsiala\, mida on võimalik jälgida ka veebis!\n*Tutvustame\, miks üldse tulla õppima tervishoidu ja tervishoiu kõrgkooli\n*Räägime vastuvõtutingimustest\n*Üliõpilasesindus tutvustab üliõpilaselu ja seda\, mis meie kõrgkooli õppima tulles Sind ees ootab!\n*Meie tudengid räägivad oma kogemustest erialavaliku tegemisel ja sellest\, kuidas kõrgkoolis õppimine neil läinud on. \n🔘 Kell 12.00-13.00 toimub kõrgkoolis messiala\, kus saad veelgi enam kuulda meie tudengite kogemusi ning panna ennast proovile erinevates tegevustes. Näiteks saad harjutada kanüüli panekut\, suhelda üliõpilasesindusega\, panna proovile enda tervishoiualased teadmised ja palju muud. \n🔘 Kell 13.00 alates toimuvad erinevate õppekavade töötoad või tundide külastused. Siin on Sul võimalus tutvuda süvitsi õppekavaga\, mis Sulle huvi pakub. Saad näha ja kuulda\, milline on sellel õppekaval õppimine ning mis Sind ees ootamas on! Samuti on see hea võimalus küsida küsimusi eriala kohta.\n⚡️Töötubadesse registreerimine algab peagi!⚡️\nhttps://www.nooruse.ee/oppimine/avatud-uksed/ \nLisaks toimuvad majatuurid 🏘\, mille käigus teeme tiiru peale meie õppehoonele ning praktikaklassidele.\nTule ja saa osa päevast\, mis aitab Sul paremini teha oma erialavalikut ning annab juurde julgust ning kindlust tervishoidu õppima tulla! \n👀 Hoia pilk peal\, sest juba varsti avame töötubadesse registreerimise ning ühtlasi täiendame meie programmi huvitavate esinejatega! \n❤️Kohtumiseni Tartu Tervishoiu Kõrgkoolis!❤️
URL:https://www.teeviit.ee/sundmus/tartu-tervishoiu-korgkooli-avatud-uste-paev-2023/
LOCATION:Tartu Tervishoiu Kõrgkool\, Nooruse 5\, Tartu\, Eesti
ATTACH;FMTTYPE=image/jpeg:https://www.teeviit.ee/wp-content/uploads/2023/02/tervise.jpg
END:VEVENT
BEGIN:VEVENT
DTSTART;TZID=UTC:20230301T100000
DTEND;TZID=UTC:20230301T160000
DTSTAMP:20260424T124921
CREATED:20230222T093731Z
LAST-MODIFIED:20230222T093731Z
UID:14252-1677664800-1677686400@www.teeviit.ee
SUMMARY:Tartu Ülikooli Lahtiste uste päev 2023
DESCRIPTION:🎓📚 𝟭. märtsil 2023 toimub Tartu Ülikooli raamatukogus ja üle terve linna taas lahtiste uste päev. Päeva jooksul räägime\, kuidas saada üliõpilaseks ja jõuda vilistlase staatuseni. Samuti arutleme selle üle\, mis toimub ülikooli ajal ja pärast seda. 💬\nMessialal saab tutvuda erialadega ja ülikooli rohkete võimalustega. Töötubades saab katsetada erialade sobivust ja avastada uusi erialasid. \n✅ Muu hulgas on võimalik tasuta käia ülikooli muuseumides ning tutvuda Tartu Ülikooli põneva peahoone ja ühiselamutega. Erandkorras avab 1. märtsil oma uksed ka Toomemäe pärl tähetorn\, mida on muidu võimalik talvisel hooajal külastada vaid laupäeviti. \n  \n👇 LAHTISTE USTE PÄEVAL OOTAB SIND 👇\n🔸𝟭𝟬.𝟯𝟬–𝟭𝟮.𝟯𝟬 inspireeriv konverents tulevasele üliõpilasele\nTartu Ülikooli üliõpilasesinduse esimehe Katariina Sofia Pätsi tervitus\nTudengite aruteluring „Ausalt ja avatult tudengielust”\nVilistlaste aruteluring „Ülikooliõpingud ja edasine karjäär“\nEttekanne „Viis soovitust ülikooli kandideerimiseks“ \n🔸𝟭𝟬.𝟬𝟬–𝟭𝟯.𝟬𝟬 infomess\nTartu Ülikooli raamatukogus saab põhjalikult uurida Tartu Ülikooli õppekavade ja õppimisvõimaluste kohta. Asjatundjad annavad nõu sisseastumise ja erialavaliku teemal. Lisaks on messialal esindatud üliõpilasorganisatsioone ühendav kaubamärk OLE ROHKEM. Selle eestvedajad tutvustavad tudengiorganisatsioonide põnevaid võimalusi. \n🔸𝟭𝟯.𝟬𝟬–𝟭𝟲.𝟬𝟬 õppekavade töötoad ja infotunnid\nTöötubades saavad osalejad käe külge panna ja kogeda\, mida üks või teine õppekava endast kujutab. Õppekavade infotundides saab esitada küsimusi nii huvipakkuvate õppekavade sisu kui ka sisseastumise kohta. \n🔸𝟭𝟬.𝟬𝟬–𝟭𝟰.𝟬𝟬 personaalne karjäärinõustamine\nTartu Ülikooli nõustamiskeskuse karjäärinõustajad pakuvad kohapeal terve päeva kestel personaalset karjäärinõustamist\, et aidata valida sobiva eriala. \n𝗥𝗲𝗴𝗶𝘀𝘁𝗿𝗲𝗲𝗿𝘂 ü𝗿𝗶𝘁𝘂𝘀𝗲𝗹𝗲: https://fienta.com/et/o/lup23\n⚡️ Rohkem infot leiad 👉 https://ut.ee/et/lahtised-uksed \n  \nNÄEME TARTU ÜLIKOOLIS! 👋
URL:https://www.teeviit.ee/sundmus/tartu-ulikooli-lahtiste-uste-paev-2023/
LOCATION:Tartu Ülikooli Raamatukogu\, W. Struve 1\, Tartu\, 50091\, Eesti
ATTACH;FMTTYPE=image/jpeg:https://www.teeviit.ee/wp-content/uploads/2023/02/tu-lup.jpg
END:VEVENT
END:VCALENDAR